BEGIN:VCALENDAR
VERSION:2.0
PRODID:-//Octubre Centre de Cultura Contemporània - ECPv5.1.6//NONSGML v1.0//EN
CALSCALE:GREGORIAN
METHOD:PUBLISH
X-WR-CALNAME:Octubre Centre de Cultura Contemporània
X-ORIGINAL-URL:https://octubre.cat
X-WR-CALDESC:Events for Octubre Centre de Cultura Contemporània
BEGIN:VTIMEZONE
TZID:Europe/Andorra
BEGIN:DAYLIGHT
TZOFFSETFROM:+0100
TZOFFSETTO:+0200
TZNAME:CEST
DTSTART:20180325T010000
END:DAYLIGHT
BEGIN:STANDARD
TZOFFSETFROM:+0200
TZOFFSETTO:+0100
TZNAME:CET
DTSTART:20181028T010000
END:STANDARD
END:VTIMEZONE
BEGIN:VEVENT
DTSTART;TZID=Europe/Andorra:20180313T183000
DTEND;TZID=Europe/Andorra:20180313T183000
DTSTAMP:20260422T022758
CREATED:20200729T190324Z
LAST-MODIFIED:20200729T190324Z
UID:13354-1520965800-1520965800@octubre.cat
SUMMARY:La clericalització de l'estat argentí a través de les dictadures
DESCRIPTION:Dimarts 13 de març a les 18.30h. Amb Fernando Esteban Lozada\, Raquel Ortiz i Marc Cabanilles. Organitzen València Laica i AVALL.  \n  \n  \n\n a càrrec de Fernando Esteban Lozada\, director i portaveu per a llatinoamèrica de l’Associació Internacional del Lliure Pensament\, membre d’Ateos Mar del Plata\, del Congreso Nacional de Ateismo i de HIJOS\, Hijos e Hijas por la Identidad y la Justicia contra el Olvido y el Silencio\, Mar del Plata.  Presenten: Raquel Ortiz (València Laica) i Marc Cabanilles (AVALL).  Organitzen: València Laica i AVALL (Associació Valenciana d’Ateus i Lliurepensadors).
URL:https://octubre.cat/activitat/la-clericalitzacio-de-lestat-argenti-a-traves-de-les-dictadures/
LOCATION:Sala d’actes
CATEGORIES:Conferències i congressos
ATTACH;FMTTYPE=image/jpeg:https://octubre.cat/www/wp-content/uploads/2020/07/activitat2993.jpg
END:VEVENT
END:VCALENDAR