BEGIN:VCALENDAR
VERSION:2.0
PRODID:-//Octubre Centre de Cultura Contemporània - ECPv5.1.6//NONSGML v1.0//EN
CALSCALE:GREGORIAN
METHOD:PUBLISH
X-WR-CALNAME:Octubre Centre de Cultura Contemporània
X-ORIGINAL-URL:https://octubre.cat
X-WR-CALDESC:Events for Octubre Centre de Cultura Contemporània
BEGIN:VTIMEZONE
TZID:Europe/Andorra
BEGIN:DAYLIGHT
TZOFFSETFROM:+0100
TZOFFSETTO:+0200
TZNAME:CEST
DTSTART:20130331T010000
END:DAYLIGHT
BEGIN:STANDARD
TZOFFSETFROM:+0200
TZOFFSETTO:+0100
TZNAME:CET
DTSTART:20131027T010000
END:STANDARD
END:VTIMEZONE
BEGIN:VEVENT
DTSTART;TZID=Europe/Andorra:20131106T190000
DTEND;TZID=Europe/Andorra:20131106T190000
DTSTAMP:20260421T054614
CREATED:20200729T170152Z
LAST-MODIFIED:20200729T184216Z
UID:9605-1383764400-1383764400@octubre.cat
SUMMARY:'La ciutat cremada'\, d'Antoni Ribas
DESCRIPTION:Dimecres 6 de novembre a les 19.00h. Projecció del film ‘La ciutat cremada’ (1976)\, d’Antoni Ribas. Presentada per Josep M. Forn (coproductor). Cicle de cinema Barcelona Escenari 2013  \n  \n  \n\n Presentada i comentada per Josep M. Forn (coproductor)  El film arrenca l’any 1899\, amb la derrota del bàndol espanyol a la guerra d’Independència cubana\, i evoca deu anys d’història catalana\, fins a la Setmana Tràgica del 1909. ‘La ciutat cremada’ comença amb l’arribada a Barcelona\, procedent de Cuba\, d’un soldat\, Josep (Xabier Elorriaga)\, i del seu amic Frederic Palau (Francesc Casares)\, que torna a casa amb un bon grapat de dòlars. La família Palau és rica i rep amb els braços oberts el jove Josep. Roser (Ángela Molina) i Remei (Jeannine Mestre)\, les nebodes de Frederic\, sospiren pel convidat. Josep es decanta per Remei i es casa amb ella\, si bé l’atracció entre els cunyats és forta i persisteix al llarg dels anys. La trama principal\, però\, no és la vida d’aquesta família de ciutat\, sinó només és una excusa per descriure els conflictes polítics i socials de l’època des de 1899 fins 1909.  Direcció: Antoni Ribas (1976) Guió: Miquel Sanz\, Antoni Ribas Música: Manuel Valls i Gorina Fotografia: Teodoro Escamilla Protagonistes: Xabier Elorriaga\, Francisco Casares\, Ángela Molina\, Pau Garsaball\, Jeannine Mestre\, José Luis López Vázquez\, Joan Manuel Serrat  Organitzat per l’Octubre CCC amb la col·laboració de l’Institut de Cultura de Barcelona Direcció del cicle: Antonio Llorens Entrada lliure
URL:https://octubre.cat/activitat/la-ciutat-cremada-dantoni-ribas/
LOCATION:Sala d’actes
CATEGORIES:Barcelona Escenari 2013 (cinema)
ATTACH;FMTTYPE=image/jpeg:https://octubre.cat/www/wp-content/uploads/2020/07/activitat1869.jpg
END:VEVENT
END:VCALENDAR