BEGIN:VCALENDAR
VERSION:2.0
PRODID:-//Octubre Centre de Cultura Contemporània - ECPv5.1.6//NONSGML v1.0//EN
CALSCALE:GREGORIAN
METHOD:PUBLISH
X-WR-CALNAME:Octubre Centre de Cultura Contemporània
X-ORIGINAL-URL:https://octubre.cat
X-WR-CALDESC:Events for Octubre Centre de Cultura Contemporània
BEGIN:VTIMEZONE
TZID:Europe/Andorra
BEGIN:DAYLIGHT
TZOFFSETFROM:+0100
TZOFFSETTO:+0200
TZNAME:CEST
DTSTART:20130331T010000
END:DAYLIGHT
BEGIN:STANDARD
TZOFFSETFROM:+0200
TZOFFSETTO:+0100
TZNAME:CET
DTSTART:20131027T010000
END:STANDARD
END:VTIMEZONE
BEGIN:VEVENT
DTSTART;TZID=Europe/Andorra:20131120T183000
DTEND;TZID=Europe/Andorra:20131120T183000
DTSTAMP:20260421T064229
CREATED:20200729T170208Z
LAST-MODIFIED:20200729T184228Z
UID:9620-1384972200-1384972200@octubre.cat
SUMMARY:La ciutat col·lectiva: urbanisme i participació
DESCRIPTION:Jornades sobre revitalització urbana: Fent Ciutat. Dimecres 20 de novembre a les 18.30h  \n  \n  \n\n 18.30h. Fent Ciutat: Pla de revitalització València – Zona Nord Per la Iniciativa Fent Ciutat\, integrada per diverses associacions de veïns del Districte Nord de la ciutat de València i pel col·lectiu Fent Estudi.  19.00h. Taula rodona: l’engranatge urbà i els seus actors\, moderada per Aitor Varea i amb la participació de –Àngel Martínez Baldó\, arquitecte i professor d’Urbanisme a la Universitat Politècnica de València. –Manuel Montañés\, sociòleg i professor de Sociología a la Universitat de Valladolid. –Josep Sorribes\, economista i professor d’Economia Urbana a la Universitat de València.  Organitzat per Fent Estudi amb la col·laboració de l’Octubre CCC
URL:https://octubre.cat/activitat/la-ciutat-collectiva-urbanisme-i-participacio/
CATEGORIES:Jornades sobre revitalització urbana: Fent Ciutat
ATTACH;FMTTYPE=image/jpeg:https://octubre.cat/www/wp-content/uploads/2020/07/activitat1907.jpg
END:VEVENT
END:VCALENDAR