BEGIN:VCALENDAR
VERSION:2.0
PRODID:-//Octubre Centre de Cultura Contemporània - ECPv5.1.6//NONSGML v1.0//EN
CALSCALE:GREGORIAN
METHOD:PUBLISH
X-WR-CALNAME:Octubre Centre de Cultura Contemporània
X-ORIGINAL-URL:https://octubre.cat
X-WR-CALDESC:Events for Octubre Centre de Cultura Contemporània
BEGIN:VTIMEZONE
TZID:Europe/Andorra
BEGIN:DAYLIGHT
TZOFFSETFROM:+0100
TZOFFSETTO:+0200
TZNAME:CEST
DTSTART:20130331T010000
END:DAYLIGHT
BEGIN:STANDARD
TZOFFSETFROM:+0200
TZOFFSETTO:+0100
TZNAME:CET
DTSTART:20131027T010000
END:STANDARD
END:VTIMEZONE
BEGIN:VEVENT
DTSTART;TZID=Europe/Andorra:20130130T190000
DTEND;TZID=Europe/Andorra:20130130T190000
DTSTAMP:20260421T054741
CREATED:20200729T165907Z
LAST-MODIFIED:20200729T184000Z
UID:9452-1359572400-1359572400@octubre.cat
SUMMARY:'La Casita Blanca'\, de Carles Balagué
DESCRIPTION:Dimecres 30 de gener a les 19.00h: projecció del film “La Casita Blanca” de Carles Balagué\, dins del cicle “Baracelona escenari”  \n  \n  \n\n Projecció presentada per Carles Balagué (director)  Documental sobre la Barcelona de 1945 – 1950. La Barcelona oculta: l’estraperlo\, la misèria\, les cartilles de racionament\, les cases de cites\, els maquis urbans\, la clandestinitat política i\, en contrast\, el Congrés Eucarístic i les visites a Barcelona de Franco i Eva Perón…  Entrada lliure  Organitzat per l’Octubre CCC amb la col·laboració de l’Institut de Cultura de Barcelona
URL:https://octubre.cat/activitat/la-casita-blanca-de-carles-balague/
LOCATION:No definit
CATEGORIES:Barcelona escenari 2012 (cinema)
ATTACH;FMTTYPE=image/jpeg:https://octubre.cat/www/wp-content/uploads/2020/07/activitat1702.jpg
END:VEVENT
END:VCALENDAR