BEGIN:VCALENDAR
VERSION:2.0
PRODID:-//Octubre Centre de Cultura Contemporània - ECPv5.1.6//NONSGML v1.0//EN
CALSCALE:GREGORIAN
METHOD:PUBLISH
X-WR-CALNAME:Octubre Centre de Cultura Contemporània
X-ORIGINAL-URL:https://octubre.cat
X-WR-CALDESC:Events for Octubre Centre de Cultura Contemporània
BEGIN:VTIMEZONE
TZID:Europe/Andorra
BEGIN:DAYLIGHT
TZOFFSETFROM:+0100
TZOFFSETTO:+0200
TZNAME:CEST
DTSTART:20070325T010000
END:DAYLIGHT
BEGIN:STANDARD
TZOFFSETFROM:+0200
TZOFFSETTO:+0100
TZNAME:CET
DTSTART:20071028T010000
END:STANDARD
END:VTIMEZONE
BEGIN:VEVENT
DTSTART;TZID=Europe/Andorra:20071106T193000
DTEND;TZID=Europe/Andorra:20071106T193000
DTSTAMP:20260420T210120
CREATED:20200729T181535Z
LAST-MODIFIED:20200730T035505Z
UID:12384-1194377400-1194377400@octubre.cat
SUMMARY:La casa de la meua àvia
DESCRIPTION:Dimarts\, 19:30 h. Documental d’Adán Aliaga\, el realitzador de Sant Vicent del Raspeig que ha gravat durant anys la peculiar relació entre una xiqueta de 6 anys i la seua àvia de 75. El film va més enllà d’una simple crònica i planteja la confrontació dels móns de les dos protagonistes.  \n  \n  \n\nD’Adán Aliaga  És el primer documental fet a l’Estat espanyol que ha guanyat  l’IDFA (Internacional Documentary Filmfestival Amsterdam) que és com l’Òscar dels documentals. Adán Aliaga és un realitzador de Sant Vicent del Raspeig que ha gravat durant anys la peculiar relació entre una xiqueta de 6 anys i la seua àvia de 75. El film va més enllà d’una simple crònica i planteja la confrontació dels móns de les dos protagonistes. L’anciana abandona la casa familiar perquè facen pisos… El món nou s’imposa amb determinació sobre el vell.   FITXA TÈCNICA:  Direcció: Adán Aliaga Guió: Adán Aliaga Intèrprets: Marina Pastor\, Marita Fuentes\, Elena Pastor\, Rosa Zornoza Producció: Xose Zapata Fotografia: Adán Aliaga Música:  Vincent Barriere Any producció: 2005    Imatge: www.lacasademiabuela.info   (dossir premsa/ pag1 és el cartell)
URL:https://octubre.cat/activitat/la-casa-de-la-meua-avia/
LOCATION:No definit
CATEGORIES:Cicle de Documentals
ATTACH;FMTTYPE=image/jpeg:https://octubre.cat/www/wp-content/uploads/2020/07/activitat360.jpg
END:VEVENT
END:VCALENDAR