BEGIN:VCALENDAR
VERSION:2.0
PRODID:-//Octubre Centre de Cultura Contemporània - ECPv5.1.6//NONSGML v1.0//EN
CALSCALE:GREGORIAN
METHOD:PUBLISH
X-WR-CALNAME:Octubre Centre de Cultura Contemporània
X-ORIGINAL-URL:https://octubre.cat
X-WR-CALDESC:Events for Octubre Centre de Cultura Contemporània
BEGIN:VTIMEZONE
TZID:Europe/Andorra
BEGIN:DAYLIGHT
TZOFFSETFROM:+0100
TZOFFSETTO:+0200
TZNAME:CEST
DTSTART:20170326T010000
END:DAYLIGHT
BEGIN:STANDARD
TZOFFSETFROM:+0200
TZOFFSETTO:+0100
TZNAME:CET
DTSTART:20171029T010000
END:STANDARD
END:VTIMEZONE
BEGIN:VEVENT
DTSTART;TZID=Europe/Andorra:20170303T000000
DTEND;TZID=Europe/Andorra:20170323T000000
DTSTAMP:20260420T222912
CREATED:20200729T172429Z
LAST-MODIFIED:20200904T151011Z
UID:11040-1488499200-1490227200@octubre.cat
SUMMARY:'La cara dels altres'
DESCRIPTION:La imatge dels pobles “exòtics” a l’Europa dels segles XVIII i XIX\nCol·lecció Joan F. Mira \nInauguració: divendres 3 de març a les 19.30h\, amb Joan F. Mira i Francesc Tamarit\, director del Museu Valencià d’Etnologia. \nLa mostra està integrada per 93 reproduccions de gravats\, dels segles XVIII i XIX\, de la col·lecció de Joan Francesc Mira. Els dibuixos ofereixen la visió europea d’altres cultures\, a través d’escenes de la vida quotidiana\, costums\, indumentària\, etc. “La cara dels Altres” presenta l’ideari exòtic generat pels viatgers europeus a terres d’Àsia\, Amèrica i Àfrica dels segles XVIII i XIX i plasmat en la col·lecció de gravats de Mira. En paraules del mateix Joan F. Mira “es tracta d’una història fascinant: la història de com construir la cara i la imatge dels altres\, quan no tenien màquines per fixar-la. Potser els nostres besavis dels segles XVIII i XIX projectaven també qui sap què fantasies. No sempre és el bon salvatge o el salvatge brutal que apareix dibuixat: algunes vegades som nosaltres mateixos\, amb la cara dels altres”. \nUna producció del Museu Valencià d’Etnologia (Diputació de València) que hem fet coincidir temporalment amb l’exposició “Joan F. Mira: l’ofici de mirar i escriure“\, que aquest Museu ofereix fins el 9 d’abril.
URL:https://octubre.cat/activitat/la-cara-dels-altres/
LOCATION:Sala d’exposicions
CATEGORIES:Exposicions
ATTACH;FMTTYPE=image/jpeg:https://octubre.cat/www/wp-content/uploads/2020/07/activitat2780.jpg
END:VEVENT
END:VCALENDAR