BEGIN:VCALENDAR
VERSION:2.0
PRODID:-//Octubre Centre de Cultura Contemporània - ECPv5.1.6//NONSGML v1.0//EN
CALSCALE:GREGORIAN
METHOD:PUBLISH
X-WR-CALNAME:Octubre Centre de Cultura Contemporània
X-ORIGINAL-URL:https://octubre.cat
X-WR-CALDESC:Events for Octubre Centre de Cultura Contemporània
BEGIN:VTIMEZONE
TZID:Europe/Andorra
BEGIN:DAYLIGHT
TZOFFSETFROM:+0100
TZOFFSETTO:+0200
TZNAME:CEST
DTSTART:20190331T010000
END:DAYLIGHT
BEGIN:STANDARD
TZOFFSETFROM:+0200
TZOFFSETTO:+0100
TZNAME:CET
DTSTART:20191027T010000
END:STANDARD
END:VTIMEZONE
BEGIN:VEVENT
DTSTART;TZID=Europe/Andorra:20191201T190000
DTEND;TZID=Europe/Andorra:20191201T190000
DTSTAMP:20260423T002950
CREATED:20200729T173535Z
LAST-MODIFIED:20200729T191240Z
UID:11537-1575226800-1575226800@octubre.cat
SUMMARY:"La caixa negra"\, de  José Carlos Díaz
DESCRIPTION:Dijous 31 d’octubre a les 19.00h. Seguidament es projectarà el curt Ara d’Albert Blay i Carles Gómez. Projeccions incloses en el Festival de Cinema Ciutadà Compromès 2019.	 \n  \n  \n\n 	 Julia troba en un mercadet una caixa negra que conté un àlbum familiar amb més de cinc-centes imatges en blanc i negre. Un impuls irrefrenable la porta a esbrinar la identitat dels retrats i a reconstruir la vida de la cantant Lia Delby i del músic i compositor valencià Francisco Esteve Pastor.  Direcció: José Carlos Díaz (2015) Guió: José Carlos Díaz i Francesc Picó Realització: Xavier Cortés Producció: Paula Cervera Productora: On Air Durada: 41’  Seguidament es projectarà el curt Ara\, d’Albert Blay i Carles Gómez (14’)\, un documental que retrata la visió ideològica de Gabriel León\, veterà de la lleva del biberó en el bàndol republicà durant la Guerra Civil espanyola\, des del conflicte bèl·lic fins a l’actualitat.  — Projecció inclosa en el Festival de Cinema Ciutadà Compromès (FCCC) organitzat per Acicom amb la col·laboració d’Acció Cultural del País Valencià Taquilla inversa.
URL:https://octubre.cat/activitat/la-caixa-negra-de-jose-carlos-diaz/
LOCATION:Sala d’actes
CATEGORIES:Festival de Cinema Ciutadà Compromès
ATTACH;FMTTYPE=image/jpeg:https://octubre.cat/www/wp-content/uploads/2020/07/activitat3357.jpg
END:VEVENT
END:VCALENDAR