BEGIN:VCALENDAR
VERSION:2.0
PRODID:-//Octubre Centre de Cultura Contemporània - ECPv5.1.6//NONSGML v1.0//EN
CALSCALE:GREGORIAN
METHOD:PUBLISH
X-WR-CALNAME:Octubre Centre de Cultura Contemporània
X-ORIGINAL-URL:https://octubre.cat
X-WR-CALDESC:Events for Octubre Centre de Cultura Contemporània
BEGIN:VTIMEZONE
TZID:Europe/Andorra
BEGIN:DAYLIGHT
TZOFFSETFROM:+0100
TZOFFSETTO:+0200
TZNAME:CEST
DTSTART:20140330T010000
END:DAYLIGHT
BEGIN:STANDARD
TZOFFSETFROM:+0200
TZOFFSETTO:+0100
TZNAME:CET
DTSTART:20141026T010000
END:STANDARD
END:VTIMEZONE
BEGIN:VEVENT
DTSTART;TZID=Europe/Andorra:20140101T000000
DTEND;TZID=Europe/Andorra:20140131T000000
DTSTAMP:20260425T222732
CREATED:20200729T170310Z
LAST-MODIFIED:20200831T150742Z
UID:9680-1388534400-1391126400@octubre.cat
SUMMARY:'Kung Fu Art'\, de Judas Arrieta
DESCRIPTION:Fins al 31 de gener: prorrogada l’exposició de l’artista basc Judas Arrieta\, organitzada amb la col·laboració de l’Insitut Confuci de la Universitat de València.\nComissària: Lupe Frígols \nJudas Arrieta (Hondarribia\, 1971) indaga a través de la fusió de la iconografia popular xinesa i occidental pels diferents elements folklòrics i la idiosincràsia pròpia de les dues cultures . Convulsiva anàlisi de forma irònica a la comunicació de masses a través d’una sèrie d’imatges agitades\, resultat d’un compendi superposat de superherois del cinema\, del Kung Fu\, d’herois com Bruce Lee\, companyies cinematogràfiques com la Shaw Brothers d’Hong Kong\, personatges del còmic\, pintura tradicional de paisatge\, arquitectures contemporànies\, cal·ligrafia o dracs \, en una estètica al més pur estil cartoon . La mostra està composta per una sèrie d’acrílics i dibuixos i està acompanyada pel mural “Kung Fu Art”. En aquest hi ha una recerca personal a través del gest pictòric enfront del llenç blanc i l’art marcial\, com a procés de superació personal en l’execució artística. El Kung Fu com a element vertebrador cultural entre la Xina tradicional i moderna\, conjugada amb la influència occidental i viceversa . Narració que transcorre d’una imatge a una altra superposada sense necessitat de donar comptes del procés temporal. Gestos que l’artista repeteix innombrables vegades com un autèntic mestre wushu de la pintura \, reapropiant-se de signes i imatges preses del Kung Fu\, i que comportaria un diàleg entre el llenguatge del cos i el dibuix\, entre la manera de narrar i la seva seqüència temporal en l’actual comunicació de masses\, entre la pulsió personal a l’autor i el món que l’ envolta . El resultat és una obra amb un marcat caràcter vitalista \, que s’apropa a una estètica i temàtica fílmiques que transcendeixen la història\, convertint als seus herois en personatges inoblidables per a la memòria social\, generant la sensació de tenir el futur en el passat . En definitiva\, l’autor descriu els pensaments de la forma més ràpida\, tornant al dibuix i al còmic amb intensitat entenent-lo no només com un llenguatge abstracte conformat per icones populars\, sinó com una relectura de la voràgine cultural pròpia de les nostres societats. \nArrieta ha estat primer premi de Generación 2006 de Caja Madrid. Ha exposat al Museu Guggenheim de Bilbao\, l’Institut Cervantes de Pequín\, la Sala BBK de Bilbao \, la Korjaamo Gallery d’Hèlsinki \, la galeria AJG de Sevilla o ARCO a Madrid. La seva obra es troba en col·leccions tan importants com la Institution of Chinart Museum de Pequín\, al Guggenheim de Bilbao\, la fundació Antonio Pérez de Conca\, Casa Àsia de Barcelona o l’ambaixada d’Espanya a Tòquio.
URL:https://octubre.cat/activitat/kung-fu-art-de-judas-arrieta/
LOCATION:Sala d’exposicions
CATEGORIES:Exposicions
ATTACH;FMTTYPE=image/jpeg:https://octubre.cat/www/wp-content/uploads/2020/07/activitat1972.jpg
END:VEVENT
END:VCALENDAR