BEGIN:VCALENDAR
VERSION:2.0
PRODID:-//Octubre Centre de Cultura Contemporània - ECPv5.1.6//NONSGML v1.0//EN
CALSCALE:GREGORIAN
METHOD:PUBLISH
X-WR-CALNAME:Octubre Centre de Cultura Contemporània
X-ORIGINAL-URL:https://octubre.cat
X-WR-CALDESC:Events for Octubre Centre de Cultura Contemporània
BEGIN:VTIMEZONE
TZID:Europe/Andorra
BEGIN:DAYLIGHT
TZOFFSETFROM:+0100
TZOFFSETTO:+0200
TZNAME:CEST
DTSTART:20080330T010000
END:DAYLIGHT
BEGIN:STANDARD
TZOFFSETFROM:+0200
TZOFFSETTO:+0100
TZNAME:CET
DTSTART:20081026T010000
END:STANDARD
END:VTIMEZONE
BEGIN:VEVENT
DTSTART;TZID=Europe/Andorra:20081219T200000
DTEND;TZID=Europe/Andorra:20081219T200000
DTSTAMP:20260420T230842
CREATED:20200730T035911Z
LAST-MODIFIED:20200730T035911Z
UID:14043-1229716800-1229716800@octubre.cat
SUMMARY:Kore: A Vj (València)
DESCRIPTION:Divendres 19 de desembre a les 20.00h: Kore:A Vj (València)  \n  \n  \n\n(aka Dj Punto)  Comença el seu treball l’any 2003\, influenciat per vídeo-artistes com ID:Mora (Txèquia)\, Softless o Red Ribbon (València) i després d’haver estudiat disseny gràfic comença a desenvolupar la seua labor com a vídeo-creador. L’any 2004 debuta a les Inferno Sessions\, on és vdj resident. Alterna aquest treball amb el d’ajudant de realització amb multicàmara durant concerts d’artistes com La Mala Rodríguez\, Barricada i La Excepción\, treball que li permet guanyar un premi audiovisual al festival ESTE04. Treballa posteriorment\, també com a vdj\, a sales valencianes com Barraca\, Friends\, Repvbblica o La House i també de l’estranger com Jack’s Club (Londres)\, Op Art (Lisboa)\, Swing Club (Porto)\, Pulp Mansion (Berlin) i Kraftwerk (Lübbenau). En el nostre cicle s0n1v1s10 unirà els seus dos vessants artístics\, tant com productor musical com vdj\, en un set enèrgic basat en un estil que ell mateix defineix com “Hard Vision”.
URL:https://octubre.cat/activitat/kore-a-vj-valencia/
LOCATION:No definit
CATEGORIES:Cicle S0N1V1S10
ATTACH;FMTTYPE=image/gif:https://octubre.cat/www/wp-content/uploads/2020/07/activitat722.gif
END:VEVENT
END:VCALENDAR