BEGIN:VCALENDAR
VERSION:2.0
PRODID:-//Octubre Centre de Cultura Contemporània - ECPv5.1.6//NONSGML v1.0//EN
CALSCALE:GREGORIAN
METHOD:PUBLISH
X-WR-CALNAME:Octubre Centre de Cultura Contemporània
X-ORIGINAL-URL:https://octubre.cat
X-WR-CALDESC:Events for Octubre Centre de Cultura Contemporània
BEGIN:VTIMEZONE
TZID:Europe/Andorra
BEGIN:DAYLIGHT
TZOFFSETFROM:+0100
TZOFFSETTO:+0200
TZNAME:CEST
DTSTART:20130331T010000
END:DAYLIGHT
BEGIN:STANDARD
TZOFFSETFROM:+0200
TZOFFSETTO:+0100
TZNAME:CET
DTSTART:20131027T010000
END:STANDARD
END:VTIMEZONE
BEGIN:VEVENT
DTSTART;TZID=Europe/Andorra:20130515T000000
DTEND;TZID=Europe/Andorra:20130517T000000
DTSTAMP:20260422T000511
CREATED:20200729T170001Z
LAST-MODIFIED:20200830T164251Z
UID:9505-1368576000-1368748800@octubre.cat
SUMMARY:KAPAS - Festival Internacional de Cine Performance i Cine Antisistema
DESCRIPTION:  \n\nFestival Internacional de Cine Performance i Cine Antisistema. Del 15 al 17 de maig de 2013. Organitzat per El Col·lectibo amb la col·laboració de l’Octubre CCC \n \n\nEl Festival Internacional de Cine Performance i Cine Antisistema KAPAS naix en 2012 com una col·laboració entre alguns dels Arxius d’Art Performance i programadors i curadors d’arreu de l’Estat. Naix com a canal de difusió per a posar de manifest i traslladar al ciutadà una sèrie de films i treballs audiovisuals que mereixen una consideració per la seua especificitat i per la seua divergència amb les formes tradicionalment establertes del llenguatge cinematogràfic\, i per la seua navegació en espais artístics intermèdia. A l’edició valenciana\, la gent d’El Col·lectibo hem tractat de generar una experiència que supose una aportació específica. Col·laboren amb nosaltres el festival de curtmetratges ACURT i el col·lectiu Grup de Treball Cine-Ex (GTCE). També proposem una taula redona on poder debatre obertament els temes que KAPAS posa en joc: el registre de l’art d’acció\, l’arxiu i la cultura com a bé comú. Comptarem amb Pedro Alba (productor cultural responsable del festival KAPAS)\, Bartomeu Ferrando (professor de performance a la Universitat Politècnica de València) i Nelo Vilar (artista promiscu\, membre d’El Col·lectibo). I\, per fi\, proposem una convocatòria internacional de micrometratges d’un minut (“Micrometratges en lowtech: amics del pixel”) gravats amb mòbil\, que seran exhibits en el festival i passaran a formar part de l’arxiu del festival KAPAS. Programa Dimecres 15 de maig: –17:30h “The YES MEN fix the world”. (2009) / 87 min / Dirigit per Andy Bichlbaum\, Mike Bonanno i Kurt Engfehr –19:30h Presentació del festival KAPAS\, amb Pedro Alba Documental/videoperformance “A Ca la Paka: performance\, genero y pueblo” de Pedro Alba Documental/videoart “Tiranía estética” de Pedro Alba Documental “Lo que puede un cuerpo” del Ministeri de cultura de la República Colombiana Documental “Kalistäck” de Kalistäck i Paulo Pinto  Dijous 16 de maig: –17:30h “Una película española” (2010) / Dirigida per Jesús Peralta –19:30h Sessió a càrrec d’A.C.U.R.T –21:30h Sessió a càrrec de GTCE. Conferència-projecció-debat-situació al voltant de la trajectòria del GTCE (Grup de Treball de Cine Ex) Selecció de treballs del GTCE (2008-2012) · “Hermetismos cinematográficos 1” (2008)\, de Jesús Peralta · “Sin título” (2009)\, de Victoria Carrascosa · “Aquí aquí aquí” (2010)\, de mamar13 · “La gran película de la realidad. Episodio 391” (2010)\, de Jesús Peralta · “-18” (2010)\, d’Álvaro Pichó · “Cosiendo el tiempo en la piel” (2010)\, de Raquel Guerrero · “Trece” (2010)\, obra col·lectiva · “La deriva del gif descarriado” (2011)\, de Jesús Peralta · “Modelcam” (2011) \, de mamar13 · “Ké bonita es Barcelona” (2011)\, de Valentina Grillo · “Conversación con amigos (toma 1)” (2011)\, de Marisa Muñoz · “Me cuentas” (2011)\, de Patricia Roca · “Tríptico mental de España” (2011)\, de Jesús Peralta · “Estado de bienestar” (2012)\, d’Álvaro Pichó · “Entre el 26 y el 27” (2012)\, de Jesús Peralta Divendres 17 de maig: –17:30h “Oscar”. (2004) / 61 min / Dirigit per Sergio Morkin. –19:00h Micrometratges en lowtech. Amics del píxel. Presentació dels micrometratges rebuts en la Convocatòria –21:00h Registre d’acció\, arxiu i cultura lliure. Taula redona amb Bartomeu Ferrando\, Nelo Vilar\, Pedro Alba\, Jesús Peralta i Raül Molla. Moderen Raul Ortega i Rosana Ortí. Consulta més detalls del programa en aquest enllaç Organitzat per El Col·lectibo amb la col·laboració de l’Octubre CCC Més informació a El Col·lectibo Bases de la convocatòria de Micrometratges en low tech: amics del píxel
URL:https://octubre.cat/activitat/kapas-festival-internacional-de-cine-performance-i-cine-antisistema/
LOCATION:Sala d’actes
CATEGORIES:Cinema
ATTACH;FMTTYPE=image/jpeg:https://octubre.cat/www/wp-content/uploads/2020/07/activitat1760.jpg
END:VEVENT
END:VCALENDAR