BEGIN:VCALENDAR
VERSION:2.0
PRODID:-//Octubre Centre de Cultura Contemporània - ECPv5.1.6//NONSGML v1.0//EN
CALSCALE:GREGORIAN
METHOD:PUBLISH
X-WR-CALNAME:Octubre Centre de Cultura Contemporània
X-ORIGINAL-URL:https://octubre.cat
X-WR-CALDESC:Events for Octubre Centre de Cultura Contemporània
BEGIN:VTIMEZONE
TZID:Europe/Andorra
BEGIN:DAYLIGHT
TZOFFSETFROM:+0100
TZOFFSETTO:+0200
TZNAME:CEST
DTSTART:20200329T010000
END:DAYLIGHT
BEGIN:STANDARD
TZOFFSETFROM:+0200
TZOFFSETTO:+0100
TZNAME:CET
DTSTART:20201025T010000
END:STANDARD
END:VTIMEZONE
BEGIN:VEVENT
DTSTART;TZID=Europe/Andorra:20200228T200000
DTEND;TZID=Europe/Andorra:20200228T200000
DTSTAMP:20260421T041554
CREATED:20200729T191352Z
LAST-MODIFIED:20200916T192659Z
UID:13703-1582920000-1582920000@octubre.cat
SUMMARY:Julio Galcerà & Vidas Ejemplares
DESCRIPTION:Aquest concert se celebra en el context de l’exposició 20 ESPEJOS SUCEDEN. \n“Julio Galcerà va realitzar la seua primera intervenció musical el 1967 al Refugi del carrer de Dalt\, al barri del Carme de València. Rock\, blues\, rhythm & blues\, fussion i\, sobretot\, música d’autor\, produint amb els seus músics un grapat de discos que un dia seran objecte de culte del col·leccionisme. Però… què és un autor? qui és Julio Galcerá?. \n20 ESPEJOS SUCEDEN s’articula en un viatge que va des de Velluters i el Carme fins a l’illa grega d’Egina\, passant per Munic i Estrasburg\, arrencant el viatge des dels testimonis vitals oferts per Julio sobre espais gairebé mítics de dos barris fundacionals de València. Però… podem contar l’existència d’algú? serveix d’alguna cosa tractar d’explicar a Julio? La resposta és No. Vine millor a veure’l i a escoltar-lo en directe i viu-lo”\n(Alfonso Legaz i Andrea Garay\, autors de l’exposició). \n— Entrades a taquilla: 5€ Reserves d’entrades: 963157799
URL:https://octubre.cat/activitat/julio-galcera-vidas-ejemplares/
LOCATION:Sala d’actes
CATEGORIES:Música
ATTACH;FMTTYPE=image/jpeg:https://octubre.cat/www/wp-content/uploads/2020/07/activitat3445.jpg
END:VEVENT
END:VCALENDAR