BEGIN:VCALENDAR
VERSION:2.0
PRODID:-//Octubre Centre de Cultura Contemporània - ECPv5.1.6//NONSGML v1.0//EN
CALSCALE:GREGORIAN
METHOD:PUBLISH
X-WR-CALNAME:Octubre Centre de Cultura Contemporània
X-ORIGINAL-URL:https://octubre.cat
X-WR-CALDESC:Events for Octubre Centre de Cultura Contemporània
BEGIN:VTIMEZONE
TZID:Europe/Andorra
BEGIN:DAYLIGHT
TZOFFSETFROM:+0100
TZOFFSETTO:+0200
TZNAME:CEST
DTSTART:20100328T010000
END:DAYLIGHT
BEGIN:STANDARD
TZOFFSETFROM:+0200
TZOFFSETTO:+0100
TZNAME:CET
DTSTART:20101031T010000
END:STANDARD
END:VTIMEZONE
BEGIN:VEVENT
DTSTART;TZID=Europe/Andorra:20100926T190000
DTEND;TZID=Europe/Andorra:20100926T190000
DTSTAMP:20260420T141953
CREATED:20200729T165024Z
LAST-MODIFIED:20200730T042538Z
UID:8907-1285527600-1285527600@octubre.cat
SUMMARY:Juliane Heinemann
DESCRIPTION:Diumenge 26 de setembre\, a les 19.00h: Juliane Heinemann (Berlín / Barcelona).   \n  \n  \n\nNascuda a Berlín i establerta a Barcelona des del 2006\, Juliane Heinemann ha col·laborat en un munt de projectes amb músics destacats de l’escena local\, com ara Santi Careta\, Giulia Valle\, Joan Díaz\, Laia Cagigal i Roger Mas\, per citar-ne només uns pocs de la llarga llista. Ara\, no obstant\, li ha arribat el torn de presentar el seu primer treball com a solista\, Aren’t you glad to be here?\, un compendi de cançons pròpies que apareixen poblades de fràgils\, profundes i exquisides emocions. Jazz que murmura a l’oïda\, intimista i delicat\, que enamora des de la primera nota per la seua senzillesa i per la seua sinceritat.   Juliane Heinemann\, veu i guitarra / Jordi Matas\, guitarra i teclat Marko Lohikari\, contrabaix / Oriol Roca\, bateria
URL:https://octubre.cat/activitat/juliane-heinemann/
LOCATION:No definit
CATEGORIES:Diumenges de Jazz!
ATTACH;FMTTYPE=image/jpeg:https://octubre.cat/www/wp-content/uploads/2020/07/activitat1243.jpg
END:VEVENT
END:VCALENDAR