BEGIN:VCALENDAR
VERSION:2.0
PRODID:-//Octubre Centre de Cultura Contemporània - ECPv5.1.6//NONSGML v1.0//EN
CALSCALE:GREGORIAN
METHOD:PUBLISH
X-WR-CALNAME:Octubre Centre de Cultura Contemporània
X-ORIGINAL-URL:https://octubre.cat
X-WR-CALDESC:Events for Octubre Centre de Cultura Contemporània
BEGIN:VTIMEZONE
TZID:Europe/Andorra
BEGIN:DAYLIGHT
TZOFFSETFROM:+0100
TZOFFSETTO:+0200
TZNAME:CEST
DTSTART:20100328T010000
END:DAYLIGHT
BEGIN:STANDARD
TZOFFSETFROM:+0200
TZOFFSETTO:+0100
TZNAME:CET
DTSTART:20101031T010000
END:STANDARD
END:VTIMEZONE
BEGIN:VEVENT
DTSTART;TZID=Europe/Andorra:20100516T190000
DTEND;TZID=Europe/Andorra:20100516T190000
DTSTAMP:20260420T102429
CREATED:20200729T164920Z
LAST-MODIFIED:20200730T042456Z
UID:8838-1274036400-1274036400@octubre.cat
SUMMARY:Josvi Muñoz Group
DESCRIPTION:Diumenge 16 de maig\, a les 19.00h: Josvi Muñoz Group (València).   \n  \n  \n\nNou projecte nascut a València\, fruit de la reunió de quatre grans músics de reconegut prestigi en el panorama musical de la península. El resultat\, un atractiu i interessant quartet amb un so molt fresc i impactant\, replet de grans arranjaments i amb composicions originals i improvisacions coloristes\, espontànies\, fluïdes i amb molta energia. Molt de groove i ritmes potents que barregen el jazz\, el funk\, el blues i el rock\, i un directe que\, sense dubte\, captivarà els espectadors de seguida gràcies a la seua força.  Alberto Palau\, orgue Hammond / Josvi Muñoz\, saxòfon tenor Joan Soler\, guitarra / Juanjo Garcerà\, bateria
URL:https://octubre.cat/activitat/josvi-munoz-group/
LOCATION:No definit
CATEGORIES:Diumenges de Jazz!
ATTACH;FMTTYPE=image/jpeg:https://octubre.cat/www/wp-content/uploads/2020/07/activitat1187.jpg
END:VEVENT
END:VCALENDAR