BEGIN:VCALENDAR
VERSION:2.0
PRODID:-//Octubre Centre de Cultura Contemporània - ECPv5.1.6//NONSGML v1.0//EN
CALSCALE:GREGORIAN
METHOD:PUBLISH
X-WR-CALNAME:Octubre Centre de Cultura Contemporània
X-ORIGINAL-URL:https://octubre.cat
X-WR-CALDESC:Events for Octubre Centre de Cultura Contemporània
BEGIN:VTIMEZONE
TZID:Europe/Andorra
BEGIN:DAYLIGHT
TZOFFSETFROM:+0100
TZOFFSETTO:+0200
TZNAME:CEST
DTSTART:20130331T010000
END:DAYLIGHT
BEGIN:STANDARD
TZOFFSETFROM:+0200
TZOFFSETTO:+0100
TZNAME:CET
DTSTART:20131027T010000
END:STANDARD
END:VTIMEZONE
BEGIN:VEVENT
DTSTART;TZID=Europe/Andorra:20131114T180000
DTEND;TZID=Europe/Andorra:20131114T180000
DTSTAMP:20260421T033109
CREATED:20200729T170214Z
LAST-MODIFIED:20200729T184234Z
UID:9626-1384452000-1384452000@octubre.cat
SUMMARY:Joseph Gulsoy i la llengua dels valencians
DESCRIPTION:Dijous 14 de novembre a les 18.00h: amb Joseph Gulsoy (Universitat de Toronto)\, Emili Casanova (UV) i Maite Puigdevall (UOC)  \n  \n  \n\n Amb Joseph Gulsoy (Universitat de Toronto) i Emili Casanova (Universitat de València\, Acadèmia Valenciana de la Llengua). Modera: Maite Puigdevall (Universitat Oberta de Catalunya)  Jospeh Gulsoy\, nascut a Turquia el 1925 i resident al Canadà des de 1949 és filòleg i profesor a la Universitat de Toronto. Membre fundador de la North American Catalan Society\, va ser deixeble i col·laborador de Joan Coromines i ha publicat nombrosos estudis lexicogràfics i gramàtics\, especialmente referits al català. És membre de l’Institut d’Estudis Catalans i ha obtingut la Creu de Sant Jordi\, entre d’altres guardons.  Organitzat per la Universitat Oberta de Catalunya amb la col·laboració de l’Octubre CCC
URL:https://octubre.cat/activitat/joseph-gulsoy-i-la-llengua-dels-valencians/
CATEGORIES:Conferències i congressos
ATTACH;FMTTYPE=image/jpeg:https://octubre.cat/www/wp-content/uploads/2020/07/activitat1913.jpg
END:VEVENT
END:VCALENDAR