BEGIN:VCALENDAR
VERSION:2.0
PRODID:-//Octubre Centre de Cultura Contemporània - ECPv5.1.6//NONSGML v1.0//EN
CALSCALE:GREGORIAN
METHOD:PUBLISH
X-WR-CALNAME:Octubre Centre de Cultura Contemporània
X-ORIGINAL-URL:https://octubre.cat
X-WR-CALDESC:Events for Octubre Centre de Cultura Contemporània
BEGIN:VTIMEZONE
TZID:Europe/Andorra
BEGIN:DAYLIGHT
TZOFFSETFROM:+0100
TZOFFSETTO:+0200
TZNAME:CEST
DTSTART:20180325T010000
END:DAYLIGHT
BEGIN:STANDARD
TZOFFSETFROM:+0200
TZOFFSETTO:+0100
TZNAME:CET
DTSTART:20181028T010000
END:STANDARD
END:VTIMEZONE
BEGIN:VEVENT
DTSTART;TZID=Europe/Andorra:20181031T190000
DTEND;TZID=Europe/Andorra:20181031T190000
DTSTAMP:20260422T212016
CREATED:20200729T173159Z
LAST-MODIFIED:20200729T190950Z
UID:11303-1541012400-1541012400@octubre.cat
SUMMARY:"Josep Renau. L’art en perill"\, d’Eva Vizcarra i Rafa Casañ
DESCRIPTION:Dimecres 31 d’octubre a les 19.00h. Projecció inclosa en el Festival de Cinema Ciutadà Compromès 2018.	 \n  \n  \n\n 	 Col·loqui posterior amb la directora.  A través del descobriment i rehabilitació de diversos murals a Erfurt i Halle Neustadt\, s’ofereix un retrat del genial cartellista\, muralista i fotomuntador Josep Renau\, el treball del qual ofereix una de les cròniques visuals més crítiques del segle XX.  Direcció: Eva Vizcarra i Rafa Casañ (2018) Guió: Rafa Casañ Producció executiva: Eva Vizcarra Música: Peter Gun i Javier Vercher Producció: Endora Durada: 60’  — Festival de Cinema Ciutadà Compromès 2018 Organitza: ACICOM Col·laboren: Generalitat Valenciana\, Institut Valencià de Cultura\, Ajuntament de València\, Acció Cultural del País Valencià.
URL:https://octubre.cat/activitat/josep-renau-lart-en-perill-deva-vizcarra-i-rafa-casan/
LOCATION:Sala d’actes
CATEGORIES:Festival de Cinema Ciutadà Compromès
ATTACH;FMTTYPE=image/jpeg:https://octubre.cat/www/wp-content/uploads/2020/07/activitat3141.jpg
END:VEVENT
END:VCALENDAR