BEGIN:VCALENDAR
VERSION:2.0
PRODID:-//Octubre Centre de Cultura Contemporània - ECPv5.1.6//NONSGML v1.0//EN
CALSCALE:GREGORIAN
METHOD:PUBLISH
X-WR-CALNAME:Octubre Centre de Cultura Contemporània
X-ORIGINAL-URL:https://octubre.cat
X-WR-CALDESC:Events for Octubre Centre de Cultura Contemporània
BEGIN:VTIMEZONE
TZID:Europe/Andorra
BEGIN:DAYLIGHT
TZOFFSETFROM:+0100
TZOFFSETTO:+0200
TZNAME:CEST
DTSTART:20070325T010000
END:DAYLIGHT
BEGIN:STANDARD
TZOFFSETFROM:+0200
TZOFFSETTO:+0100
TZNAME:CET
DTSTART:20071028T010000
END:STANDARD
END:VTIMEZONE
BEGIN:VEVENT
DTSTART;TZID=Europe/Andorra:20070925T000000
DTEND;TZID=Europe/Andorra:20071202T000000
DTSTAMP:20260421T001031
CREATED:20200729T181459Z
LAST-MODIFIED:20251207T194554Z
UID:12347-1190678400-1196553600@octubre.cat
SUMMARY:Josep Renau (1907-1982): Compromís i cultura
DESCRIPTION:Exposició antològica sobre l’artista Josep Renau. Coproduïda per la Fundació Josep Renau\, la Univesitat de València i la Societat Estatal de Commemoracions Culturals.\nComissari: Jaime Brihuega \nCelebrem el centenari del naixement de Josep Renau amb una exposició antològica. \nArtista\, responsable de política cultural i\, sobretot\, intel·lectual compromès\, Renau és una figura clau de la cultura del segle XX. Polemista infatigable i encertat\, grafista\, pintor\, cartellista\, fotomuntador\, muralista… ens ha llegat (simbòlicament\, però també de iure i de facto) una obra immensa que mereix una contemplació museística i una reinserció activa en la consciència col·lectiva. La mostra aplega més de dues centes obres\, entre pintures\, dibuixos\, esbossos\, fotomuntatges i cartells; a més d’abundant material documental\, bibliogràfic i audiovisual\, i s’estructura en quatre espais: l’Octubre CCC i tres sales de La Nau de la Universitat. \n 
URL:https://octubre.cat/activitat/josep-renau-1907-1982-compromis-i-cultura/
LOCATION:No definit
CATEGORIES:Exposicions
ATTACH;FMTTYPE=image/jpeg:https://octubre.cat/www/wp-content/uploads/2020/07/el-comisario.jpg
END:VEVENT
END:VCALENDAR