BEGIN:VCALENDAR
VERSION:2.0
PRODID:-//Octubre Centre de Cultura Contemporània - ECPv5.1.6//NONSGML v1.0//EN
CALSCALE:GREGORIAN
METHOD:PUBLISH
X-WR-CALNAME:Octubre Centre de Cultura Contemporània
X-ORIGINAL-URL:https://octubre.cat
X-WR-CALDESC:Events for Octubre Centre de Cultura Contemporània
BEGIN:VTIMEZONE
TZID:Europe/Andorra
BEGIN:DAYLIGHT
TZOFFSETFROM:+0100
TZOFFSETTO:+0200
TZNAME:CEST
DTSTART:20070325T010000
END:DAYLIGHT
BEGIN:STANDARD
TZOFFSETFROM:+0200
TZOFFSETTO:+0100
TZNAME:CET
DTSTART:20071028T010000
END:STANDARD
END:VTIMEZONE
BEGIN:VEVENT
DTSTART;TZID=Europe/Andorra:20070523T193000
DTEND;TZID=Europe/Andorra:20070523T193000
DTSTAMP:20260420T165913
CREATED:20251228T192434Z
LAST-MODIFIED:20251228T192434Z
UID:24446-1179948600-1179948600@octubre.cat
SUMMARY:Josep Maria Terricabras
DESCRIPTION:Conferència “La filosofia actual sense Wittgenstein”\, a càrrec de Josep Maria Terricabras\, catedràtic de filosofia\, professor a la càtedra Ferrater Mora de Pensament Contemporani de la Universitat de Girona i membre de l’Institut d’Estudis Catalans. \nPresentat per Antoni Defez. \n—\nCicle organitzat per l’Octubre CCC i coordinat per Gustau Muñoz.
URL:https://octubre.cat/activitat/josep-maria-terricabras/
LOCATION:No definit
CATEGORIES:Cicle sobre Pensament Contemporani
ATTACH;FMTTYPE=image/jpeg:https://octubre.cat/www/wp-content/uploads/2020/07/conferencia1.jpg
END:VEVENT
END:VCALENDAR