BEGIN:VCALENDAR
VERSION:2.0
PRODID:-//Octubre Centre de Cultura Contemporània - ECPv5.1.6//NONSGML v1.0//EN
CALSCALE:GREGORIAN
METHOD:PUBLISH
X-WR-CALNAME:Octubre Centre de Cultura Contemporània
X-ORIGINAL-URL:https://octubre.cat
X-WR-CALDESC:Events for Octubre Centre de Cultura Contemporània
BEGIN:VTIMEZONE
TZID:Europe/Andorra
BEGIN:DAYLIGHT
TZOFFSETFROM:+0100
TZOFFSETTO:+0200
TZNAME:CEST
DTSTART:20070325T010000
END:DAYLIGHT
BEGIN:STANDARD
TZOFFSETFROM:+0200
TZOFFSETTO:+0100
TZNAME:CET
DTSTART:20071028T010000
END:STANDARD
END:VTIMEZONE
BEGIN:VEVENT
DTSTART;TZID=Europe/Andorra:20070531T193000
DTEND;TZID=Europe/Andorra:20070531T193000
DTSTAMP:20260420T192113
CREATED:20251228T182541Z
LAST-MODIFIED:20251228T182541Z
UID:24426-1180639800-1180639800@octubre.cat
SUMMARY:Josep Iborra i Rafa Gomar
DESCRIPTION:Josep Iborra i Rafa Gomar \nCicle de converses literàries celebrades al terrat de l’Octubre CCC.\nEn col·laboració amb l’Associació d’Escriptors en Llengua Catalana (AELC)
URL:https://octubre.cat/activitat/josep-iborra-i-rafa-gomar/
LOCATION:Terrat
CATEGORIES:Escriptors al terrat
ATTACH;FMTTYPE=image/jpeg:https://octubre.cat/www/wp-content/uploads/2020/07/llibres1.jpg
END:VEVENT
END:VCALENDAR