BEGIN:VCALENDAR
VERSION:2.0
PRODID:-//Octubre Centre de Cultura Contemporània - ECPv5.1.6//NONSGML v1.0//EN
CALSCALE:GREGORIAN
METHOD:PUBLISH
X-WR-CALNAME:Octubre Centre de Cultura Contemporània
X-ORIGINAL-URL:https://octubre.cat
X-WR-CALDESC:Events for Octubre Centre de Cultura Contemporània
BEGIN:VTIMEZONE
TZID:Europe/Andorra
BEGIN:DAYLIGHT
TZOFFSETFROM:+0100
TZOFFSETTO:+0200
TZNAME:CEST
DTSTART:20180325T010000
END:DAYLIGHT
BEGIN:STANDARD
TZOFFSETFROM:+0200
TZOFFSETTO:+0100
TZNAME:CET
DTSTART:20181028T010000
END:STANDARD
END:VTIMEZONE
BEGIN:VEVENT
DTSTART;TZID=Europe/Andorra:20180214T193000
DTEND;TZID=Europe/Andorra:20180214T193000
DTSTAMP:20260420T194019
CREATED:20200729T190259Z
LAST-MODIFIED:20200729T190259Z
UID:13327-1518636600-1518636600@octubre.cat
SUMMARY:Josep Amírola
DESCRIPTION:Dimecres 14 de febrer a les 19.30h. Actuació musical. Activitat paral·lela a l’exposició Universos paral·lels de paco munyoç.  \n  \n  \n\n Josep Amírola\, reconegut músic valencià de llarga trajectòria en camps com la música folk i tradicional i líder\, entre altres formacions\, del grup El Cau del Llop\, interpretarà una peça inspirada en l’obra pictòrica de Paco Munyoç.  Aquesta activitat forma part de l’exposició Universos paral·lels\, de paco munyoç.
URL:https://octubre.cat/activitat/josep-amirola/
CATEGORIES:Música
ATTACH;FMTTYPE=image/jpeg:https://octubre.cat/www/wp-content/uploads/2020/07/activitat2967.jpg
END:VEVENT
END:VCALENDAR