BEGIN:VCALENDAR
VERSION:2.0
PRODID:-//Octubre Centre de Cultura Contemporània - ECPv5.1.6//NONSGML v1.0//EN
CALSCALE:GREGORIAN
METHOD:PUBLISH
X-WR-CALNAME:Octubre Centre de Cultura Contemporània
X-ORIGINAL-URL:https://octubre.cat
X-WR-CALDESC:Events for Octubre Centre de Cultura Contemporània
BEGIN:VTIMEZONE
TZID:Europe/Andorra
BEGIN:DAYLIGHT
TZOFFSETFROM:+0100
TZOFFSETTO:+0200
TZNAME:CEST
DTSTART:20110327T010000
END:DAYLIGHT
BEGIN:STANDARD
TZOFFSETFROM:+0200
TZOFFSETTO:+0100
TZNAME:CET
DTSTART:20111030T010000
END:STANDARD
END:VTIMEZONE
BEGIN:VEVENT
DTSTART;TZID=Europe/Andorra:20110929T193000
DTEND;TZID=Europe/Andorra:20110929T193000
DTSTAMP:20260424T154028
CREATED:20200729T165601Z
LAST-MODIFIED:20200730T042846Z
UID:9264-1317324600-1317324600@octubre.cat
SUMMARY:Josep A. Fluixà i Joaquina Barba
DESCRIPTION:Dijous 29 de setembre a les 19.30h: conversa amb els escriptors Josep A. Fluixà i Joaquina Barba  \n  \n  \n\nConversa amb els escriptors Josep Antoni Fluixà i Joaquina Barba.  Josep Antoni Fluixà (Alzira\, 1959) és mestre\, escriptor i crític literari. Com a poeta ha publicat “Nàufrags sens illa” (1987) i “L’estel fugaç” (1999). Fluixà és més conegut\, però\, com a autor de narrativa infantil\, gènere en el qual ha publicat\, entre d’altres obres\, “Gratacelònia” (1990)\, “Viatge al país dels cocòlits” (1992)\,  “Pere i el ratolí Pirulí” (1994)\, “El poble de Llepamelós” (1995)\, “El pirata naufragat” (1998) o “La reina Ataülfa” (2001). A banda\, ha realitzat també treballs d’assessorament pedagògic i és director de la Fundació Bromera per al Foment de la Lectura.  Joaquina Barba (Oliva\, 1966) és mestra i escriptora. El gènere que més ha conreat és la literatura infantil i juvenil. Ha publicat “Sònia i els maquis” (2003)\, “El braçalet de la princesa mora” (2004)\, “Aixa\, la xiqueta del desert” (2006)\, “L’illa oblidada” (2006)\, “Cel obert” (2010) i “SOS! Bullying. Per entendre l’assetjament escolar” (2010).
URL:https://octubre.cat/activitat/josep-a-fluixa-i-joaquina-barba/
LOCATION:No definit
CATEGORIES:Escriptors al terrat
ATTACH;FMTTYPE=image/jpeg:https://octubre.cat/www/wp-content/uploads/2020/07/activitat1496.jpg
END:VEVENT
END:VCALENDAR