BEGIN:VCALENDAR
VERSION:2.0
PRODID:-//Octubre Centre de Cultura Contemporània - ECPv5.1.6//NONSGML v1.0//EN
CALSCALE:GREGORIAN
METHOD:PUBLISH
X-WR-CALNAME:Octubre Centre de Cultura Contemporània
X-ORIGINAL-URL:https://octubre.cat
X-WR-CALDESC:Events for Octubre Centre de Cultura Contemporània
BEGIN:VTIMEZONE
TZID:Europe/Andorra
BEGIN:DAYLIGHT
TZOFFSETFROM:+0100
TZOFFSETTO:+0200
TZNAME:CEST
DTSTART:20170326T010000
END:DAYLIGHT
BEGIN:STANDARD
TZOFFSETFROM:+0200
TZOFFSETTO:+0100
TZNAME:CET
DTSTART:20171029T010000
END:STANDARD
END:VTIMEZONE
BEGIN:VEVENT
DTSTART;TZID=Europe/Andorra:20170526T200000
DTEND;TZID=Europe/Andorra:20170526T200000
DTSTAMP:20260421T113823
CREATED:20200729T172608Z
LAST-MODIFIED:20210729T172542Z
UID:11148-1495828800-1495828800@octubre.cat
SUMMARY:José Julio
DESCRIPTION:Divendres 26 de maig a les 20.00h. Entrades a 6 i 8 euros.  \n  \n  \n\n José Julio: “the blue eyes whistler”  Portes a les 19.30h.  Entrades: Anticipada a notikumi.com: 6 € Taquilla: 8 €
URL:https://octubre.cat/activitat/jose-julio/
CATEGORIES:Teatre
ATTACH;FMTTYPE=image/jpeg:https://octubre.cat/www/wp-content/uploads/2020/07/activitat2834.jpg
END:VEVENT
END:VCALENDAR