BEGIN:VCALENDAR
VERSION:2.0
PRODID:-//Octubre Centre de Cultura Contemporània - ECPv5.1.6//NONSGML v1.0//EN
CALSCALE:GREGORIAN
METHOD:PUBLISH
X-WR-CALNAME:Octubre Centre de Cultura Contemporània
X-ORIGINAL-URL:https://octubre.cat
X-WR-CALDESC:Events for Octubre Centre de Cultura Contemporània
BEGIN:VTIMEZONE
TZID:Europe/Andorra
BEGIN:DAYLIGHT
TZOFFSETFROM:+0100
TZOFFSETTO:+0200
TZNAME:CEST
DTSTART:20100328T010000
END:DAYLIGHT
BEGIN:STANDARD
TZOFFSETFROM:+0200
TZOFFSETTO:+0100
TZNAME:CET
DTSTART:20101031T010000
END:STANDARD
END:VTIMEZONE
BEGIN:VEVENT
DTSTART;TZID=Europe/Andorra:20100328T190000
DTEND;TZID=Europe/Andorra:20100328T190000
DTSTAMP:20260420T173220
CREATED:20200729T164819Z
LAST-MODIFIED:20200729T182851Z
UID:8780-1269802800-1269802800@octubre.cat
SUMMARY:Jose Estela Jazz Chansongs
DESCRIPTION:Diumenge 28 de març\, a les 19.00h: Jose Estela Jazz Chansongs (València).   \n  \n  \n\nJazz Chansongs és un projecte musical que ret homenatge a cantants francesos que van utilitzar el jazz com a llenguatge musical en algun moment de la seua carrera. També es recreen algunes cançons franceses que el jazz ha fet seues. Es tracta d’un projecte inèdit\, exceptuant\, òbviament\, les aproximacions d’Eva Dénia a Brassens\, que busca aproximar aquests temes i els seus intèrprets a l’oient. El repertori recupera l’obra d’artistes com Claude Nougaro\, Serge Gainsbourg\, Boris Vian\, Henri Salvador o Charles Trenet. Algunes cançons són estàndards del jazz amb lletra adaptada en francès\, mentre que altres foren escrits originàriament en francès\, però es feren famosos en la seua versió anglesa.   Formació: Bertrand Kientz\, guitarra Latino Blanco\, saxo i flauta Alex Cesarini\, contrabaix Pere Munuera\, bateria Jose Estela\, veu
URL:https://octubre.cat/activitat/jose-estela-jazz-chansongs/
LOCATION:No definit
CATEGORIES:Diumenges de Jazz!
ATTACH;FMTTYPE=image/jpeg:https://octubre.cat/www/wp-content/uploads/2020/07/activitat1126.jpg
END:VEVENT
END:VCALENDAR