BEGIN:VCALENDAR
VERSION:2.0
PRODID:-//Octubre Centre de Cultura Contemporània - ECPv5.1.6//NONSGML v1.0//EN
CALSCALE:GREGORIAN
METHOD:PUBLISH
X-WR-CALNAME:Octubre Centre de Cultura Contemporània
X-ORIGINAL-URL:https://octubre.cat
X-WR-CALDESC:Events for Octubre Centre de Cultura Contemporània
BEGIN:VTIMEZONE
TZID:Europe/Andorra
BEGIN:DAYLIGHT
TZOFFSETFROM:+0100
TZOFFSETTO:+0200
TZNAME:CEST
DTSTART:20140330T010000
END:DAYLIGHT
BEGIN:STANDARD
TZOFFSETFROM:+0200
TZOFFSETTO:+0100
TZNAME:CET
DTSTART:20141026T010000
END:STANDARD
END:VTIMEZONE
BEGIN:VEVENT
DTSTART;TZID=Europe/Andorra:20140225T190000
DTEND;TZID=Europe/Andorra:20140227T000000
DTSTAMP:20260420T232858
CREATED:20200729T170331Z
LAST-MODIFIED:20200729T184345Z
UID:9700-1393354800-1393459200@octubre.cat
SUMMARY:Jornades sobre periodisme
DESCRIPTION:25\, 26 i 27 de febrer\, a les 19.00h. Periodisme? Quin periodisme? Per a quan? Tres jornades/ tres qüestions/ tres debats. Organitzades per la Fundació Institut d’Estudis Polítics  \n  \n  \n\n Periodisme? Quin periodisme? Per a quan? Tres jornades/ tres qüestions/ tres debats.  •Dimarts\, 25 de febrer La manipulació descarada. El cas de Canal 9. Com evitar-ho de cara al futur? Intervinents: –Salud Alcover. Periodista. Vicepresidenta del Comitè d’Empresa de Canal 9/RTVV –Jose Ignacio Pastor. Ex-Vicepresident del Consell d´Administració de Canal 9/RTVV. President de l´Associació Ciutadania i Comunicació (ACICOM) –Sergi Pitarch. President de La Unió de Periodistes del País Valencià Modera: Ignacio Blanco. Portaveu d’Esquerra Unida a les Corts Valencianes.  •Dimecres\, 26 de febrer “Telebasura” i violència de gènere. Del tarot al Sálvame. Es pot tancar una televisió malgrat que siga privada? Intervinents: –Mª José Gámez Fuentes. Prof. Titular d’Universitat\, Dep. de Ciències de la Comunicació\, Universitat Jaume I –Clara Alonso Jiménez. Periodista i Agent d’Igualtat. Responsable de Comunicació Interna d’IU –Tere Mollà. Comunicadora i formadora de gènere\, Agent d’Igualtat\, Master d’igualtat i polítiques de gènere per la Universitat Juan Carlos I –Josep Ramon LLuch. Periodista. Conductor i participant en debats televisius Modera: Glòria Marcos. Presidenta de la Fundació Institut d´Estudis Polítics.  •Dijous\, 27 de febrer Els periodistes que venen.  Mercenaris o comunicadors. Té un termini la professió tal i com la coneixem? Intervinents: –Lorena Carrillo. Estudiant de 4art de Comunicació Audiovisual –Vicent Mifsud. Periodista. President del Comitè d’Empresa de Canal 9 /RTVV –Andreu Escrivà. Bloguer i activista a les xarxes socials –Joan Canela. Associació Média.cat. Observatori crític dels mitjans Modera: Emilio Garrido. Periodista i documentalista.  Organitzat per la Fundació Institut d’Estudis Polítics (FIEP)
URL:https://octubre.cat/activitat/jornades-sobre-periodisme/
LOCATION:Aula 2
CATEGORIES:Conferències i congressos
ATTACH;FMTTYPE=image/jpeg:https://octubre.cat/www/wp-content/uploads/2020/07/activitat1992.jpg
END:VEVENT
END:VCALENDAR