BEGIN:VCALENDAR
VERSION:2.0
PRODID:-//Octubre Centre de Cultura Contemporània - ECPv5.1.6//NONSGML v1.0//EN
CALSCALE:GREGORIAN
METHOD:PUBLISH
X-WR-CALNAME:Octubre Centre de Cultura Contemporània
X-ORIGINAL-URL:https://octubre.cat
X-WR-CALDESC:Events for Octubre Centre de Cultura Contemporània
BEGIN:VTIMEZONE
TZID:Europe/Andorra
BEGIN:DAYLIGHT
TZOFFSETFROM:+0100
TZOFFSETTO:+0200
TZNAME:CEST
DTSTART:20200329T010000
END:DAYLIGHT
BEGIN:STANDARD
TZOFFSETFROM:+0200
TZOFFSETTO:+0100
TZNAME:CET
DTSTART:20201025T010000
END:STANDARD
END:VTIMEZONE
BEGIN:VEVENT
DTSTART;TZID=Europe/Andorra:20201130T190000
DTEND;TZID=Europe/Andorra:20201130T190000
DTSTAMP:20260420T120718
CREATED:20201022T102602Z
LAST-MODIFIED:20201028T094434Z
UID:15393-1606762800-1606762800@octubre.cat
SUMMARY:Jornades «Iguals i amb Drets»: Paul Bilbao
DESCRIPTION:«La Carta Europea de les Llengües Regionals o Minoritàries i la seua aplicació a l’Estat espanyol» \nA càrrec de Paul Bilbao\, president de Kontseilua. \n \n  \nPresenta: Toni Gisbert\, secretari d’Acció Cultural del País Valencià \nOrganitzat per ACPV.
URL:https://octubre.cat/activitat/jornades-iguals-i-amb-drets-2/
LOCATION:Aula 1
CATEGORIES:Iguals i amb drets
ATTACH;FMTTYPE=image/jpeg:https://octubre.cat/www/wp-content/uploads/2020/10/img-igualsdrets-occc-1920.jpg
END:VEVENT
END:VCALENDAR