BEGIN:VCALENDAR
VERSION:2.0
PRODID:-//Octubre Centre de Cultura Contemporània - ECPv5.1.6//NONSGML v1.0//EN
CALSCALE:GREGORIAN
METHOD:PUBLISH
X-WR-CALNAME:Octubre Centre de Cultura Contemporània
X-ORIGINAL-URL:https://octubre.cat
X-WR-CALDESC:Events for Octubre Centre de Cultura Contemporània
BEGIN:VTIMEZONE
TZID:Europe/Andorra
BEGIN:DAYLIGHT
TZOFFSETFROM:+0100
TZOFFSETTO:+0200
TZNAME:CEST
DTSTART:20090329T010000
END:DAYLIGHT
BEGIN:STANDARD
TZOFFSETFROM:+0200
TZOFFSETTO:+0100
TZNAME:CET
DTSTART:20091025T010000
END:STANDARD
END:VTIMEZONE
BEGIN:VEVENT
DTSTART;TZID=Europe/Andorra:20090611T000000
DTEND;TZID=Europe/Andorra:20090611T000000
DTSTAMP:20260421T024254
CREATED:20200729T182508Z
LAST-MODIFIED:20200829T105941Z
UID:12860-1244678400-1244678400@octubre.cat
SUMMARY:Jornades Forestals. El bosc valencià avui
DESCRIPTION:  \n\nDies 11\, 13 i 18 de juny. Jornades de reflexió sobre l’estat dels boscos del País Valencià. Amb motiu del Dia Mundial de la lluita contra la desertificació (17 de juny). Organitzen la Plataforma Rural del País Valencià amb Acció Ecologista Agró i l’IdT. \n \n\nJornades Forestals. El bosc valencià avui Organitza: Plataforma Rural del PV amb la col.laboració d’Acció-Ecologista-Agró i l’Institut del Territori Amb motiu del Dia Mundial de la lluita contra la desertificació (17 de juny). Dijous 11 de juny 19.30h. Taula rodona: “El bosc valencià. Situació actual. Riscos i perspectives de futur”. Ponents: Antoni Aguilella\, director del Jardí Botànic de València. Artemi Cerdà\, geògraf de la Universitat de València. Carles Arnal\, biòleg\, membre de la Comissió Forestal del grup ecologista Agró. Modera: M. Josep Picó\, periodista especialitzada en temes ambientals. Dissabte 13 de juny De 10.30 a 14.00 h. “L’estat del bosc valencià”. Revisió de la gestió forestal de l’administració i de les agressions i amenaces que pateix el bosc. Hi participaran i presentaran informes i documents diferents col·lectius ecologistes i plataformes ciutadanes de tot el País Valencià per a analitzar la degradació i els problemes del bosc arreu del nostre territori. Dijous 18 de juny 19.30h. Taula rodona: “Vies de protecció i restauració dels ecosistemes forestals valencians”. Ponents: Patricio García-Fayos\, director del CIDE-Centre d’Investigacions sobre la Desertificació. Antoni Marzo\, biòleg; Vivers Forestals de la Generalitat. Josep Nebot\, biòleg\, membre de l’associació Avinença. Modera: Juan Pont\, Mas de Noguera i Plataforma Rural del PV.
URL:https://octubre.cat/activitat/jornades-forestals-el-bosc-valencia-avui/
LOCATION:No definit
CATEGORIES:Institut del Territori
ATTACH;FMTTYPE=image/jpeg:https://octubre.cat/www/wp-content/uploads/2020/07/activitat890.jpg
END:VEVENT
END:VCALENDAR