BEGIN:VCALENDAR
VERSION:2.0
PRODID:-//Octubre Centre de Cultura Contemporània - ECPv5.1.6//NONSGML v1.0//EN
CALSCALE:GREGORIAN
METHOD:PUBLISH
X-WR-CALNAME:Octubre Centre de Cultura Contemporània
X-ORIGINAL-URL:https://octubre.cat
X-WR-CALDESC:Events for Octubre Centre de Cultura Contemporània
BEGIN:VTIMEZONE
TZID:Europe/Andorra
BEGIN:DAYLIGHT
TZOFFSETFROM:+0100
TZOFFSETTO:+0200
TZNAME:CEST
DTSTART:20250330T010000
END:DAYLIGHT
BEGIN:STANDARD
TZOFFSETFROM:+0200
TZOFFSETTO:+0100
TZNAME:CET
DTSTART:20251026T010000
END:STANDARD
END:VTIMEZONE
BEGIN:VEVENT
DTSTART;TZID=Europe/Andorra:20250508T093000
DTEND;TZID=Europe/Andorra:20250508T133000
DTSTAMP:20260421T162342
CREATED:20250424T094322Z
LAST-MODIFIED:20250427T144107Z
UID:22625-1746696600-1746711000@octubre.cat
SUMMARY:Jornades «Escoltem la cultura»: sector de les arts visuals
DESCRIPTION:09.30 h. Introducció. Coordinador general i coordinadora de la jornada\, Xelo Bosch\, coordinadora general d’AVVAC. \n10.00 h. Intervencions dels ponents\n—Concha Ros\, artista i gestora cultural.\n—Juanma Pérez\,  pèrit d’obres d’art\, conservació i restauració.\n—Agueda Forés\, directora gerent d’APIV.\n—Mònica del Rey Jordà\, representant de MAV\, Mujeres en las Artes Visuales.\n—Irene Ballester Buigues\, secretària d’AVCA\, Associació Valenciana de Crítics d’Art. \n11.30 – 12.15 h. Pausa.\n12.15 h. Lectura i posada en comú pel relator de la jornada  de les primeres conclusions.\n12.30 h. Espai de participació: suggeriments de modificacions i propostes millorades pels assistentes\n13.30 h. Acabament de la jornada \n—\nOrganitza Acció Cultural del País Valencià (ACPV)
URL:https://octubre.cat/activitat/jornades-escoltem-la-cultura-sector-de-les-arts-visuals/
LOCATION:Sala d’actes
CATEGORIES:Jornades «Escoltem la cultura» 2025
ATTACH;FMTTYPE=image/jpeg:https://octubre.cat/www/wp-content/uploads/2025/04/EscoltemLaCultura-web.jpg
END:VEVENT
END:VCALENDAR