BEGIN:VCALENDAR
VERSION:2.0
PRODID:-//Octubre Centre de Cultura Contemporània - ECPv5.1.6//NONSGML v1.0//EN
CALSCALE:GREGORIAN
METHOD:PUBLISH
X-WR-CALNAME:Octubre Centre de Cultura Contemporània
X-ORIGINAL-URL:https://octubre.cat
X-WR-CALDESC:Events for Octubre Centre de Cultura Contemporània
BEGIN:VTIMEZONE
TZID:Europe/Andorra
BEGIN:DAYLIGHT
TZOFFSETFROM:+0100
TZOFFSETTO:+0200
TZNAME:CEST
DTSTART:20250330T010000
END:DAYLIGHT
BEGIN:STANDARD
TZOFFSETFROM:+0200
TZOFFSETTO:+0100
TZNAME:CET
DTSTART:20251026T010000
END:STANDARD
END:VTIMEZONE
BEGIN:VEVENT
DTSTART;TZID=Europe/Andorra:20250507T160000
DTEND;TZID=Europe/Andorra:20250507T193000
DTSTAMP:20260421T002523
CREATED:20250424T094019Z
LAST-MODIFIED:20250427T144018Z
UID:22623-1746633600-1746646200@octubre.cat
SUMMARY:Jornades «Escoltem la cultura»: periodisme cultural
DESCRIPTION:16.00 h.  Introducció. Coordinador general i coordinador de la jornada\, Álvaro G. Devís \n16.30 h. Intervencions dels ponents\n—Xavier Aliaga\, periodista cultural d’El Temps.\n—Voro Contreras\, periodista cultural de Levante- EMV. \n18.00 -18.30 h. Pausa\n18.30 h. Lectura i posada en comú de les primeres conclusions\n18.45 h. Espai de participació: suggeriments de modificacions i propostes millorades per les persones  assistents.\n19.30 h. Acabament de la jornada \n—\nOrganitza Acció Cultural del País Valencià (ACPV)
URL:https://octubre.cat/activitat/jornades-escoltem-la-cultura-periodisme-cultural/
LOCATION:Sala d’actes
CATEGORIES:Jornades «Escoltem la cultura» 2025
ATTACH;FMTTYPE=image/jpeg:https://octubre.cat/www/wp-content/uploads/2025/04/EscoltemLaCultura-web.jpg
END:VEVENT
END:VCALENDAR