BEGIN:VCALENDAR
VERSION:2.0
PRODID:-//Octubre Centre de Cultura Contemporània - ECPv5.1.6//NONSGML v1.0//EN
CALSCALE:GREGORIAN
METHOD:PUBLISH
X-WR-CALNAME:Octubre Centre de Cultura Contemporània
X-ORIGINAL-URL:https://octubre.cat
X-WR-CALDESC:Events for Octubre Centre de Cultura Contemporània
BEGIN:VTIMEZONE
TZID:Europe/Andorra
BEGIN:DAYLIGHT
TZOFFSETFROM:+0100
TZOFFSETTO:+0200
TZNAME:CEST
DTSTART:20120325T010000
END:DAYLIGHT
BEGIN:STANDARD
TZOFFSETFROM:+0200
TZOFFSETTO:+0100
TZNAME:CET
DTSTART:20121028T010000
END:STANDARD
END:VTIMEZONE
BEGIN:VEVENT
DTSTART;TZID=Europe/Andorra:20120526T110000
DTEND;TZID=Europe/Andorra:20120526T110000
DTSTAMP:20260423T052252
CREATED:20200729T165745Z
LAST-MODIFIED:20200729T183845Z
UID:9368-1338030000-1338030000@octubre.cat
SUMMARY:Jornades d'Economia del País Valencià
DESCRIPTION:Dissabte 26 de maig a partir de les 11.00h: Jornades d’Economia d’ERPV  \n  \n  \n\nMatí  11.00h: Presentació  11.15h: “Espoli fiscal i robatori espanyol. El cas dels Països Catalans”\, amb Elisenda Paluzie (degana de la Facultat d’Econòmiques de la Universitat de Barcelona)  12.00h: Pausa-café  12.30h: Taula rodona sobre l’espoli fiscal amb Celestí Gimeno\, Joan Vea i Rafael Beneyto  Vesprada  16.30h: “Reforma laboral i drets socials”\, amb Josep Ginesta (director de recursos humans de la Universitat Oberta de Catalunya)  17.45h: Pausa-café  18.00h: Taula rodona de sindicats sobre la reforma laboral\, amb Vicent Mauri\, Gonçal Bravo\, Gonzalo Pino i Jaume Major  Organitzat per Esquera Republicana del País Valencià (ERPV) amb la col·laboració de la Fundació Josep Irla
URL:https://octubre.cat/activitat/jornades-deconomia-del-pais-valencia/
LOCATION:No definit
CATEGORIES:Conferències i congressos
ATTACH;FMTTYPE=image/jpeg:https://octubre.cat/www/wp-content/uploads/2020/07/conferencia1.jpg
END:VEVENT
END:VCALENDAR