BEGIN:VCALENDAR
VERSION:2.0
PRODID:-//Octubre Centre de Cultura Contemporània - ECPv5.1.6//NONSGML v1.0//EN
CALSCALE:GREGORIAN
METHOD:PUBLISH
X-WR-CALNAME:Octubre Centre de Cultura Contemporània
X-ORIGINAL-URL:https://octubre.cat
X-WR-CALDESC:Events for Octubre Centre de Cultura Contemporània
BEGIN:VTIMEZONE
TZID:Europe/Andorra
BEGIN:DAYLIGHT
TZOFFSETFROM:+0100
TZOFFSETTO:+0200
TZNAME:CEST
DTSTART:20170326T010000
END:DAYLIGHT
BEGIN:STANDARD
TZOFFSETFROM:+0200
TZOFFSETTO:+0100
TZNAME:CET
DTSTART:20171029T010000
END:STANDARD
END:VTIMEZONE
BEGIN:VEVENT
DTSTART;TZID=Europe/Andorra:20171114T183000
DTEND;TZID=Europe/Andorra:20171116T000000
DTSTAMP:20260421T153716
CREATED:20200729T190212Z
LAST-MODIFIED:20200729T190212Z
UID:13279-1510684200-1510790400@octubre.cat
SUMMARY:Jornades de Transparència de la Unió de Periodistes Valencians
DESCRIPTION:Dimarts 14\, dimecres 15 i dijous 16 de novembre a les 18.30h. Organitzades per la Unió de Periodistes Valencians.  \n  \n  \n\n Programa   Dimarts 14 de novembre a les 18.30h (a la sala de l’àtic).  Taula rodona “Transparència i nou Periodisme” Introducció: Aitana Mas\, directora general de Transparència Presenta i modera: Sílvia Zarza\, redactora d’Europa Press Ponents: —Antonio Maestre Hernández\, periodista i documentalista a La Marea\, i convidat habitual de La Sexta Noche. —Noemí López Trujillo\, periodista freelance. Escriu a Jod Down\, eldiario.es\, Medium (abans a El Español). Autora de Volveremos. —Carlota Guindal\, periodistsa de tribunals a La Vanguardia (abans a El Confidencial i El Español\, on va destapar el cas Lezo).   Dimecres 15 de novembre a les 18.30h (a la sala d’actes).  Taula rodona “Transparència i els límits d’accés a la informació: serveis secrets i altres institucions de l’estat” Presenta i modera: Elvira García Torres\, professora de periodisme de la Universitat Cardenal Herrera CEU. Ponents: —Fernando Rueda Rieu\, periodista d’investigació. Autor\, entre d’altres\, de La Casa i La Casa II\, acabat de publicar. És el presentador de la secció “Materia Reservada” en el programa La Rosa de los Vientos d’Onda Cero. —Luis Gonzalo Segura de Oro Pulido\, extinent de l’exèrcit espanyol expulsat per denunciar la corrupció i autor de Un paso al frente i Código Rojo. Acaba de publicar El Libro Negro del Ejército Español. —Carlos Enrique Bayo\, periodista d’investigació de Público (Las cloacas del Estado\, El caso Villarejo\,…).   Dijous 16 de novembre a les 18.30h (a la sala d’actes).  Taula rodona “Cap a una nova transparència: el paper de les institucions” Introducció: Noa de la Torre\, presidenta de la Unió de Periodistes Valencians Presenta i modera: Sílvia Aucejo\, periodista Ponents: —Manuel Alcaraz\, conseller de Transparència de la Generalitat Valenciana —Ana Garrido Ramos\, fundadora de la Plataforma x la Honestidad i funcionària que va destapar el cas Gürtel. —Yolanda Quintana\, secretària general de la Plataforma para la Defensa de la Libertad de Información (PDLI).   Organitzat per la Unió de Periodistes Valencians amb la col·laboració de la Conselleria de Transparència\, Responsabilitat Social\, Participació i Cooperació de la Generalitat Valenciana.
URL:https://octubre.cat/activitat/jornades-de-transparencia-de-la-unio-de-periodistes-valencians/
LOCATION:No definit
CATEGORIES:Conferències i congressos
ATTACH;FMTTYPE=image/png:https://octubre.cat/www/wp-content/uploads/2020/07/activitat2919.png
END:VEVENT
END:VCALENDAR