BEGIN:VCALENDAR
VERSION:2.0
PRODID:-//Octubre Centre de Cultura Contemporània - ECPv5.1.6//NONSGML v1.0//EN
CALSCALE:GREGORIAN
METHOD:PUBLISH
X-WR-CALNAME:Octubre Centre de Cultura Contemporània
X-ORIGINAL-URL:https://octubre.cat
X-WR-CALDESC:Events for Octubre Centre de Cultura Contemporània
BEGIN:VTIMEZONE
TZID:Europe/Andorra
BEGIN:DAYLIGHT
TZOFFSETFROM:+0100
TZOFFSETTO:+0200
TZNAME:CEST
DTSTART:20140330T010000
END:DAYLIGHT
BEGIN:STANDARD
TZOFFSETFROM:+0200
TZOFFSETTO:+0100
TZNAME:CET
DTSTART:20141026T010000
END:STANDARD
END:VTIMEZONE
BEGIN:VEVENT
DTSTART;TZID=Europe/Andorra:20140718T000000
DTEND;TZID=Europe/Andorra:20140719T000000
DTSTAMP:20260421T132412
CREATED:20200729T170551Z
LAST-MODIFIED:20200730T041201Z
UID:9842-1405641600-1405728000@octubre.cat
SUMMARY:Jornades d'Amnistia Internacional
DESCRIPTION:Divendres 18 i dissabte 19 de juliol. Jornades “Educació en Drets Humans. Eines per a formar a la ciutadania”\, organitzades per Amnistia Internacional Comunitat Valenciana  \n  \n  \n\n Jornades “Educació en Drets Humans. Eines per a formar a la ciutadania”.  Com deia Nelson Mandela: “L’educació és l’arma més poderosa que existeix en el Món”. Des d’Amnistia Internacional així ho creiem i per açò\, a través d’aquestes jornades\, pretenem compartir les eines amb les quals explica el nostre equip\, així com els materials editats per la nostra organització amb tots aquells que així ho desitgen. Durant les jornades es presentaran materials amb els quals treballem habitualment els activistes d’Amnistia Internacional -en les aules formals i d’educació no formal- a través de tallers pràctics i microponències en les quals els assistents podran participar activament.  Durant aquests dos dies s’abordaran temes com: — Els drets sexuals i reproductius; a diversitat i afectivitat sexual com un dret humà\, amb els materials de la Campanya  #MiCuerpoMisDerechos. — Els drets de la infància\, en concret la vulneració de tots els drets en xiquets i xiquetes soldat a través de la guia didàctica elaborada per Amnistia Internacional Comunitat Valenciana.  — L’art i com podem utilitzar eines creatives (des d’un poema a un #grafiti) per a educar en drets humans… — L’oci i temps lliure aplicat als Drets Humans. — A més\, veurem com treballar temes com la pena de mort\, la tortura i la llibertat d’expressió amb panells explicatius i/o exposició  Més informació\, programa\, inscripció i pagament
URL:https://octubre.cat/activitat/jornades-damnistia-internacional/
LOCATION:No definit
CATEGORIES:Conferències i congressos
ATTACH;FMTTYPE=image/jpeg:https://octubre.cat/www/wp-content/uploads/2020/07/activitat2113.jpg
END:VEVENT
END:VCALENDAR