BEGIN:VCALENDAR
VERSION:2.0
PRODID:-//Octubre Centre de Cultura Contemporània - ECPv5.1.6//NONSGML v1.0//EN
CALSCALE:GREGORIAN
METHOD:PUBLISH
X-WR-CALNAME:Octubre Centre de Cultura Contemporània
X-ORIGINAL-URL:https://octubre.cat
X-WR-CALDESC:Events for Octubre Centre de Cultura Contemporània
BEGIN:VTIMEZONE
TZID:Europe/Andorra
BEGIN:DAYLIGHT
TZOFFSETFROM:+0100
TZOFFSETTO:+0200
TZNAME:CEST
DTSTART:20070325T010000
END:DAYLIGHT
BEGIN:STANDARD
TZOFFSETFROM:+0200
TZOFFSETTO:+0100
TZNAME:CET
DTSTART:20071028T010000
END:STANDARD
END:VTIMEZONE
BEGIN:VEVENT
DTSTART;TZID=Europe/Andorra:20070403T000000
DTEND;TZID=Europe/Andorra:20070403T000000
DTSTAMP:20260421T150051
CREATED:20251229T175727Z
LAST-MODIFIED:20251229T175727Z
UID:24475-1175558400-1175558400@octubre.cat
SUMMARY:Jornades Almansa: Ramon Tremosa
DESCRIPTION:Conferència “I si ens autogestionàrem els nostres impostos?”\, a càrrec de Ramon Tremosa\, professor titular del departament de Teoria Econòmica de la Universitat de Barcelona.
URL:https://octubre.cat/activitat/jornades-almansa-ramon-tremosa/
LOCATION:No definit
CATEGORIES:Jornades 300 anys des d'Almansa
ATTACH;FMTTYPE=image/jpeg:https://octubre.cat/www/wp-content/uploads/2020/07/conferencia1.jpg
END:VEVENT
END:VCALENDAR