BEGIN:VCALENDAR
VERSION:2.0
PRODID:-//Octubre Centre de Cultura Contemporània - ECPv5.1.6//NONSGML v1.0//EN
CALSCALE:GREGORIAN
METHOD:PUBLISH
X-WR-CALNAME:Octubre Centre de Cultura Contemporània
X-ORIGINAL-URL:https://octubre.cat
X-WR-CALDESC:Events for Octubre Centre de Cultura Contemporània
BEGIN:VTIMEZONE
TZID:Europe/Andorra
BEGIN:DAYLIGHT
TZOFFSETFROM:+0100
TZOFFSETTO:+0200
TZNAME:CEST
DTSTART:20070325T010000
END:DAYLIGHT
BEGIN:STANDARD
TZOFFSETFROM:+0200
TZOFFSETTO:+0100
TZNAME:CET
DTSTART:20071028T010000
END:STANDARD
END:VTIMEZONE
BEGIN:VEVENT
DTSTART;TZID=Europe/Andorra:20070305T000000
DTEND;TZID=Europe/Andorra:20070305T000000
DTSTAMP:20260420T171930
CREATED:20251229T174937Z
LAST-MODIFIED:20251229T183706Z
UID:24469-1173052800-1173052800@octubre.cat
SUMMARY:Jornades Almansa: Núria Cadenes
DESCRIPTION:Conferència “Premsa lliure?” a càrrec de Núria Cadenes\, escriptora i periodista
URL:https://octubre.cat/activitat/jornades-almansa-nuria-cadenes/
LOCATION:No definit
CATEGORIES:Jornades 300 anys des d'Almansa
ATTACH;FMTTYPE=image/jpeg:https://octubre.cat/www/wp-content/uploads/2020/07/conferencia1.jpg
END:VEVENT
END:VCALENDAR