BEGIN:VCALENDAR
VERSION:2.0
PRODID:-//Octubre Centre de Cultura Contemporània - ECPv5.1.6//NONSGML v1.0//EN
CALSCALE:GREGORIAN
METHOD:PUBLISH
X-WR-CALNAME:Octubre Centre de Cultura Contemporània
X-ORIGINAL-URL:https://octubre.cat
X-WR-CALDESC:Events for Octubre Centre de Cultura Contemporània
BEGIN:VTIMEZONE
TZID:Europe/Andorra
BEGIN:DAYLIGHT
TZOFFSETFROM:+0100
TZOFFSETTO:+0200
TZNAME:CEST
DTSTART:20150329T010000
END:DAYLIGHT
BEGIN:STANDARD
TZOFFSETFROM:+0200
TZOFFSETTO:+0100
TZNAME:CET
DTSTART:20151025T010000
END:STANDARD
END:VTIMEZONE
BEGIN:VEVENT
DTSTART;TZID=Europe/Andorra:20151217T173000
DTEND;TZID=Europe/Andorra:20151217T173000
DTSTAMP:20260421T090325
CREATED:20200729T171415Z
LAST-MODIFIED:20200730T041601Z
UID:10384-1450373400-1450373400@octubre.cat
SUMMARY:Jornada sobre VIHsibilitat
DESCRIPTION:Dijous 17 de desembre a les 17.30h. Debats sobre diversos àmbits relacionats amb la visibilitat de les persones amb VIH i el seu impacte en aspectes psicològics\, socials i preventius d’aquesta malaltia.  \n  \n  \n\n Debats sobre diversos àmbits relacionats amb la visibilitat de les persones amb VIH i el seu impacte en aspectes psicològics\, socials i preventius d’aquesta malaltia.  Programa:  –”Impacte de la visibilitat en l’esfera psicològica de la persona amb VIH”. a càrrec de Carlos Gomáriz\, psicòleg del CCASCV en les Unitats de Malalties Infeccioses dels hospitals Clínic i La Fe i en el CIPS de València.  –”Art-ivisme: la visibilitat del VIH a través de l’art”. A càrrec de Ramon Espacio\, artista i activista\, llicenciat en Belles Arts per la Facultat de Belles Arts de la UPV.  –”La visibilitat del VIH en el col·lectiu LGTB+: lliçons apreses i reptes pendents”. A càrrec de Toni Alba\, secretari d’Organització de Lambda i excoordinador del grup de Salut Sexual i VIH de Lambda\, col·lectiu de lesbianes\, gais\, transexuals i bisexuals.  –”El projecte “Històries de Vihda”. El testimoni com a referent social”. A càrrec de Pilar Devesa Quinto\, responsable de projecte “Històries de Vihda” i perdiodista.  –Descans i berenar  –”Activistes i visibilitat. Relació complementària\, efectes multiplicats”. A càrrec de  Carlos M. Gómez\, president de la Coordinadora d’Associacions de VIH i sida de la Comunitat Valenciana (CALCSICOVA).  –”Dona\, VIH i visibilitat”. A càrrec d’Inma Gisbert Cervera\, experta en Salut Pública.  –Taula rodona amb els participants del projecte “Històries de Vihda” i debat amb el públic.  Organitzat pel Comitè Ciutadà Antisida de la Comunitat Valenciana amb motiu de l’exposició Encara ací / Still here.
URL:https://octubre.cat/activitat/jornada-sobre-vihsibilitat/
LOCATION:Sala d’actes
CATEGORIES:Conferències i congressos
ATTACH;FMTTYPE=image/jpeg:https://octubre.cat/www/wp-content/uploads/2020/07/activitat2438.jpg
END:VEVENT
END:VCALENDAR