BEGIN:VCALENDAR
VERSION:2.0
PRODID:-//Octubre Centre de Cultura Contemporània - ECPv5.1.6//NONSGML v1.0//EN
CALSCALE:GREGORIAN
METHOD:PUBLISH
X-WR-CALNAME:Octubre Centre de Cultura Contemporània
X-ORIGINAL-URL:https://octubre.cat
X-WR-CALDESC:Events for Octubre Centre de Cultura Contemporània
BEGIN:VTIMEZONE
TZID:Europe/Andorra
BEGIN:DAYLIGHT
TZOFFSETFROM:+0100
TZOFFSETTO:+0200
TZNAME:CEST
DTSTART:20190331T010000
END:DAYLIGHT
BEGIN:STANDARD
TZOFFSETFROM:+0200
TZOFFSETTO:+0100
TZNAME:CET
DTSTART:20191027T010000
END:STANDARD
END:VTIMEZONE
BEGIN:VEVENT
DTSTART;TZID=Europe/Andorra:20191130T190000
DTEND;TZID=Europe/Andorra:20191130T190000
DTSTAMP:20260423T002824
CREATED:20200729T173624Z
LAST-MODIFIED:20200729T191302Z
UID:11596-1575140400-1575140400@octubre.cat
SUMMARY:Jornada Romania-València
DESCRIPTION:Dissabte 30 de novembre a les 19.00h. Jornada d’agermanament  entre les comunitats romanesa i valenciana. Entrada lliure.	 \n  \n  \n\n 	 Jornada d’agermanament  entre les comunitats romanesa i valenciana   Amb la participació de: –Grup Líric Pro Datina –Cor del CIM de Benimaclet   Lectura de poemes en les dues llengües  Tast gastronòmic   Entrada lliure Organitzada per Acció Cultural del País Valencià (ACPV)
URL:https://octubre.cat/activitat/jornada-romania-valencia/
LOCATION:Hall
CATEGORIES:Literatura
ATTACH;FMTTYPE=image/jpeg:https://octubre.cat/www/wp-content/uploads/2020/07/activitat3386.jpg
END:VEVENT
END:VCALENDAR