BEGIN:VCALENDAR
VERSION:2.0
PRODID:-//Octubre Centre de Cultura Contemporània - ECPv5.1.6//NONSGML v1.0//EN
CALSCALE:GREGORIAN
METHOD:PUBLISH
X-WR-CALNAME:Octubre Centre de Cultura Contemporània
X-ORIGINAL-URL:https://octubre.cat
X-WR-CALDESC:Events for Octubre Centre de Cultura Contemporània
BEGIN:VTIMEZONE
TZID:Europe/Andorra
BEGIN:DAYLIGHT
TZOFFSETFROM:+0100
TZOFFSETTO:+0200
TZNAME:CEST
DTSTART:20150329T010000
END:DAYLIGHT
BEGIN:STANDARD
TZOFFSETFROM:+0200
TZOFFSETTO:+0100
TZNAME:CET
DTSTART:20151025T010000
END:STANDARD
END:VTIMEZONE
BEGIN:VEVENT
DTSTART;TZID=Europe/Andorra:20150926T100000
DTEND;TZID=Europe/Andorra:20150926T100000
DTSTAMP:20260421T180928
CREATED:20200729T171240Z
LAST-MODIFIED:20200730T041520Z
UID:10282-1443261600-1443261600@octubre.cat
SUMMARY:Jornada matinal 'Propostes metodològiques per a la Literatura Universal'
DESCRIPTION:Dissabte 26 de setembre a les 10.00h. Campanya Per la Literatura Universal en català organitzada per la Secció d’Ensenyament d’Acció Cultural del País Valencià.  \n  \n  \n\n Programa:  10.00h Isidre Crespo\, Secció d’Ensenyament d’ACPV: Salutació. Enric Iborra\, professor i autor d’Un son profund: “Un curs de literatura universal a l’Octubre CCC”  11.00h Descans  11.30h Tomàs Llopis: “La plataforma Moodle\, una eina per a la Literatura Universal. L’experiència a l’IES Enric Valor de Pego”  12.30h Manuel Molins\, dramataurg i professor: “Llegir teatre és fer teatre”  13.30h Rafa Xambó: Cançons del disc T’estime tant. Sonets de Shakespeare  Campanya Per la Literatura Universal en català organitzada per la Secció d’Ensenyament d’Acció Cultural del País Valencià
URL:https://octubre.cat/activitat/jornada-matinal-propostes-metodologiques-per-a-la-literatura-universal/
LOCATION:Sala d’actes
CATEGORIES:Conferències i congressos
ATTACH;FMTTYPE=image/jpeg:https://octubre.cat/www/wp-content/uploads/2020/07/activitat2379.jpg
END:VEVENT
END:VCALENDAR