BEGIN:VCALENDAR
VERSION:2.0
PRODID:-//Octubre Centre de Cultura Contemporània - ECPv5.1.6//NONSGML v1.0//EN
CALSCALE:GREGORIAN
METHOD:PUBLISH
X-WR-CALNAME:Octubre Centre de Cultura Contemporània
X-ORIGINAL-URL:https://octubre.cat
X-WR-CALDESC:Events for Octubre Centre de Cultura Contemporània
BEGIN:VTIMEZONE
TZID:Europe/Andorra
BEGIN:DAYLIGHT
TZOFFSETFROM:+0100
TZOFFSETTO:+0200
TZNAME:CEST
DTSTART:20080330T010000
END:DAYLIGHT
BEGIN:STANDARD
TZOFFSETFROM:+0200
TZOFFSETTO:+0100
TZNAME:CET
DTSTART:20081026T010000
END:STANDARD
END:VTIMEZONE
BEGIN:VEVENT
DTSTART;TZID=Europe/Andorra:20080425T000000
DTEND;TZID=Europe/Andorra:20080425T000000
DTSTAMP:20260421T085605
CREATED:20200729T181844Z
LAST-MODIFIED:20200730T035727Z
UID:12563-1209081600-1209081600@octubre.cat
SUMMARY:Jornada didàctica per a nouvinguts
DESCRIPTION:Programa:  16h. Presentació de la jornada  16.30h. Taula rodona: les polítiques de les administracions  Felip Munar i Munar\, cap del Servei d’Ensenyament de Català del Govern Balear  Pere Mayans\, cap del Servei d’Immersió i Ús de la Llengua del Departament d’Educació del Govern de Catalunya  Javier Pons\, assessor del CEFIRE de València (PASE). Conselleria d0’Educació de la Generalitat Valenciana.  (20 minuts cada intervenció\, més debat)  18h. Pausa (10 minuts)  18.15h. Taula rodona: experiències i materials  Intervencions de companys amb experiències Presentació de materials  15 minuts cada intervenció Debat obert  19.30h. Cloenda
URL:https://octubre.cat/activitat/jornada-didactica-per-a-nouvinguts/
LOCATION:No definit
CATEGORIES:Conferències i congressos
ATTACH;FMTTYPE=image/jpeg:https://octubre.cat/www/wp-content/uploads/2020/07/conferencia1.jpg
END:VEVENT
END:VCALENDAR