BEGIN:VCALENDAR
VERSION:2.0
PRODID:-//Octubre Centre de Cultura Contemporània - ECPv5.1.6//NONSGML v1.0//EN
CALSCALE:GREGORIAN
METHOD:PUBLISH
X-WR-CALNAME:Octubre Centre de Cultura Contemporània
X-ORIGINAL-URL:https://octubre.cat
X-WR-CALDESC:Events for Octubre Centre de Cultura Contemporània
BEGIN:VTIMEZONE
TZID:Europe/Andorra
BEGIN:DAYLIGHT
TZOFFSETFROM:+0100
TZOFFSETTO:+0200
TZNAME:CEST
DTSTART:20150329T010000
END:DAYLIGHT
BEGIN:STANDARD
TZOFFSETFROM:+0200
TZOFFSETTO:+0100
TZNAME:CET
DTSTART:20151025T010000
END:STANDARD
END:VTIMEZONE
BEGIN:VEVENT
DTSTART;TZID=Europe/Andorra:20151003T100000
DTEND;TZID=Europe/Andorra:20151003T100000
DTSTAMP:20260421T224731
CREATED:20200729T171244Z
LAST-MODIFIED:20200730T041524Z
UID:10286-1443866400-1443866400@octubre.cat
SUMMARY:Jornada de networking
DESCRIPTION:Dissabte 3 d’octubre a les 10.00h. Amb Maria José Marcos i Enric Cogollos. Organitzat amb la col·laboració de Caixa Popular i Aïna Management.  \n  \n  \n\n Programa  10.00h: “Les xarxes socials: un entreteniment o una ferramenta per al teu negoci?”\, a càrrec de Maria José Marcos\, community manager de Caixa Popular  11.00h: Pausa  11.30h: “Comunicació i innovació\, claus de l’èxit en temps de canvi”\, a càrrec d’Enric Cogollos\, soci consultor d’Aïna Management.  Exposició dels assistents de la seua proposta empresarial o de serveis: qui sóc?\, què oferesc?  Places limitades. Inscripció: vilella@arrels.cat Gratuït.  Organitzat per Acció Cultural del País Valencià (ACPV) amb la col·laboració de Caixa Popular i Aïna Management.
URL:https://octubre.cat/activitat/jornada-de-networking/
LOCATION:Àtic
CATEGORIES:Conferències i congressos
ATTACH;FMTTYPE=image/jpeg:https://octubre.cat/www/wp-content/uploads/2020/07/activitat2383.jpg
END:VEVENT
END:VCALENDAR