BEGIN:VCALENDAR
VERSION:2.0
PRODID:-//Octubre Centre de Cultura Contemporània - ECPv5.1.6//NONSGML v1.0//EN
CALSCALE:GREGORIAN
METHOD:PUBLISH
X-WR-CALNAME:Octubre Centre de Cultura Contemporània
X-ORIGINAL-URL:https://octubre.cat
X-WR-CALDESC:Events for Octubre Centre de Cultura Contemporània
BEGIN:VTIMEZONE
TZID:Europe/Andorra
BEGIN:DAYLIGHT
TZOFFSETFROM:+0100
TZOFFSETTO:+0200
TZNAME:CEST
DTSTART:20140330T010000
END:DAYLIGHT
BEGIN:STANDARD
TZOFFSETFROM:+0200
TZOFFSETTO:+0100
TZNAME:CET
DTSTART:20141026T010000
END:STANDARD
END:VTIMEZONE
BEGIN:VEVENT
DTSTART;TZID=Europe/Andorra:20140215T103000
DTEND;TZID=Europe/Andorra:20140215T103000
DTSTAMP:20260421T054646
CREATED:20200729T170352Z
LAST-MODIFIED:20200729T184405Z
UID:9721-1392460200-1392460200@octubre.cat
SUMMARY:Jornada de Formació Dones ‘Nativitat Yarza’
DESCRIPTION:Dissabte 15 de febrer a les 10.30h. “Els drets de les dones i la Interrupció Voluntària de l’Embaràs”. Jornada organitzada per ERPV i JERPV  \n  \n  \n\n “Els drets de les dones i la Interrupció Voluntària de l’Embaràs”  PROGRAMA  10.30h. Acreditacions  10.40h. Benvinguda: Carme Camps i Ariadna Torres\, Secretàries de la Dona d’ERPV i JERPV  10.45h. Presentació de la Jornada: Maria Rosa Amorós. Secretària de la Dona ERC  11.00h. Ponència: “Història de la lluita feminista”\, per Carme Porta\, exsecretària de Polítiques Familiars i Drets de la Ciutadania de la Generalitat de Catalunya  12.30h. Presentació de document: “Proposta d’ERPV sobre la IVE”\, per Èlia Navarro\, professora de filosofia i redactora del document  14.00h. Pausa/dinar (preu: 13€)  16.00h. Cinefòrum. Documental Rosita. Modera Ariadna Torres  17.15h. Conclusions de la Jornada: Núria Arnau\, Secretària General d’ERPV  17.30h. Cloenda: Carme Camps i Ariadna Torres.  Inscripcions a la Jornada i al dinar: posorio@esquerra.cat  Organitza: Esquerra Republicana del País Valencià (ERPV)
URL:https://octubre.cat/activitat/jornada-de-formacio-dones-nativitat-yarza/
LOCATION:No definit
CATEGORIES:Conferències i congressos
ATTACH;FMTTYPE=image/jpeg:https://octubre.cat/www/wp-content/uploads/2020/07/activitat2016.jpg
END:VEVENT
END:VCALENDAR