BEGIN:VCALENDAR
VERSION:2.0
PRODID:-//Octubre Centre de Cultura Contemporània - ECPv5.1.6//NONSGML v1.0//EN
CALSCALE:GREGORIAN
METHOD:PUBLISH
X-WR-CALNAME:Octubre Centre de Cultura Contemporània
X-ORIGINAL-URL:https://octubre.cat
X-WR-CALDESC:Events for Octubre Centre de Cultura Contemporània
BEGIN:VTIMEZONE
TZID:Europe/Andorra
BEGIN:DAYLIGHT
TZOFFSETFROM:+0100
TZOFFSETTO:+0200
TZNAME:CEST
DTSTART:20240331T010000
END:DAYLIGHT
BEGIN:STANDARD
TZOFFSETFROM:+0200
TZOFFSETTO:+0100
TZNAME:CET
DTSTART:20241027T010000
END:STANDARD
END:VTIMEZONE
BEGIN:VEVENT
DTSTART;TZID=Europe/Andorra:20241216T180000
DTEND;TZID=Europe/Andorra:20241216T180000
DTSTAMP:20260421T080253
CREATED:20241205T094226Z
LAST-MODIFIED:20241210T200011Z
UID:22031-1734372000-1734372000@octubre.cat
SUMMARY:Jornada de debat i reflexió al voltant del populisme i l’extrema dreta.
DESCRIPTION:18:00 Taula rodona del Lab de Feminismes de Nexe.\n“Antifeminisme\, desinformació i negacionismes” \nParticipen:\n—Maria Medina-Vicent\, professora titular de filosofia de la UJI\, experta en discurs antifeminista.\n—Neus Tur\, politòloga\, especialitzada en gènere i extrema dreta \n19:30 Presentació de Trumpismos\, de Miguel Urbán (Verso)\n“Radiografia de l’extrema dreta” \nDiàleg amb l’autor i Neus Tur \n20:15 Vermut i tancament \n—\nOrganitzat per llibreria Fan Set\, Fundació Nexe\, Tirant Org i Coppieters Foundation
URL:https://octubre.cat/activitat/jornada-de-debat-i-reflexio-al-voltant-del-populisme-i-lextrema-dreta/
LOCATION:Aula 1
CATEGORIES:Conferències i congressos,Literatura
ATTACH;FMTTYPE=image/webp:https://octubre.cat/www/wp-content/uploads/2024/12/trump.webp
END:VEVENT
END:VCALENDAR