BEGIN:VCALENDAR
VERSION:2.0
PRODID:-//Octubre Centre de Cultura Contemporània - ECPv5.1.6//NONSGML v1.0//EN
CALSCALE:GREGORIAN
METHOD:PUBLISH
X-WR-CALNAME:Octubre Centre de Cultura Contemporània
X-ORIGINAL-URL:https://octubre.cat
X-WR-CALDESC:Events for Octubre Centre de Cultura Contemporània
BEGIN:VTIMEZONE
TZID:Europe/Andorra
BEGIN:DAYLIGHT
TZOFFSETFROM:+0100
TZOFFSETTO:+0200
TZNAME:CEST
DTSTART:20180325T010000
END:DAYLIGHT
BEGIN:STANDARD
TZOFFSETFROM:+0200
TZOFFSETTO:+0100
TZNAME:CET
DTSTART:20181028T010000
END:STANDARD
END:VTIMEZONE
BEGIN:VEVENT
DTSTART;TZID=Europe/Andorra:20181130T190000
DTEND;TZID=Europe/Andorra:20181130T190000
DTSTAMP:20260421T192141
CREATED:20200729T173207Z
LAST-MODIFIED:20200729T190957Z
UID:11311-1543604400-1543604400@octubre.cat
SUMMARY:Jornada astronomicopoètica amb "La gota negra"\, de Cèlia Sànchez-Mústich
DESCRIPTION:Divendres 30 de novembre a les 19.00h. Amb l’autora\, Enric Marco\, Jordi Solà Coll  i Maria Josep Escrivà.	 \n  \n  \n\n 	 Amb l’autora acompanyada per Enric Marco (astrònom) i pels poetes Jordi Solà Coll i Maria Josep Escrivà.  En un moment de la festa tots vam riure amb estrèpit i entre llàgrimes. El dibuix molecular d’una llàgrima de rialla —diuen— no coincideix amb el dibuix que llisca per una de tristesa. Però ningú no pot veure-hi tan endins i vaig passar de contraban el dol. L’esperaré cent anys\, la llàgrima que em delati (fins al dos mil cent disset no tornarà a produir-se la gota negra de Venus en el trànsit pel sol).  (Pagès Editors)
URL:https://octubre.cat/activitat/jornada-astronomicopoetica-amb-la-gota-negra-de-celia-sanchez-mustich/
LOCATION:Llibreria Fan Set
CATEGORIES:Literatura
ATTACH;FMTTYPE=image/jpeg:https://octubre.cat/www/wp-content/uploads/2020/07/activitat3150.jpg
END:VEVENT
END:VCALENDAR