BEGIN:VCALENDAR
VERSION:2.0
PRODID:-//Octubre Centre de Cultura Contemporània - ECPv5.1.6//NONSGML v1.0//EN
CALSCALE:GREGORIAN
METHOD:PUBLISH
X-WR-CALNAME:Octubre Centre de Cultura Contemporània
X-ORIGINAL-URL:https://octubre.cat
X-WR-CALDESC:Events for Octubre Centre de Cultura Contemporània
BEGIN:VTIMEZONE
TZID:Europe/Andorra
BEGIN:DAYLIGHT
TZOFFSETFROM:+0100
TZOFFSETTO:+0200
TZNAME:CEST
DTSTART:20140330T010000
END:DAYLIGHT
BEGIN:STANDARD
TZOFFSETFROM:+0200
TZOFFSETTO:+0100
TZNAME:CET
DTSTART:20141026T010000
END:STANDARD
END:VTIMEZONE
BEGIN:VEVENT
DTSTART;TZID=Europe/Andorra:20140221T200000
DTEND;TZID=Europe/Andorra:20140221T200000
DTSTAMP:20260420T203842
CREATED:20200729T170337Z
LAST-MODIFIED:20200729T184351Z
UID:9706-1393012800-1393012800@octubre.cat
SUMMARY:JOP (Bartolomé Ferrando & Truna)
DESCRIPTION:Divendres 21 de febrer a les 20.00h. Actuació inaugural del nou cicle musical “Notes al peu”  \n  \n  \n\n Cicle “Notes al peu”  “La música de JOP és una música improvisada\, sense cap estructura prèvia. És una música que s’organitza sobre la base de l’escolta atenta del que l’altre fa. Escoltar atentament exigeix estar situat de ple en l’instant present\, deixant de banda qualsevol apunt de finalitat o qualsevol evocació o record. Escoltar atentament conté la capacitat d’escolta de la pròpia pulsió interna. Però per a improvisar no és suficient amb saber escoltar. Cal construir a l’instant\, sobre la base de l’escolta de l’altre\, la teva pròpia grafia o la teva pròpia estructura\, amb capacitat per articular-se amb la forma proposada per l’altre\, sense tapar ni ofegar en cap moment. Kandinsky deia que la improvisació es relacionava amb la interioritat i amb l’espontaneïtat. Tant una com l’altra són aquí precises. La primera facilita la troballa\, mentre que la segona proveeix construccions plenes de sorpresa i de sorpresa”.  Entrada: 4 euros Organitza: lacasacalba.org Reserva d’entrades: escriviu a comandes@lacasacalba.org  (foto: Lisa Liibbe)
URL:https://octubre.cat/activitat/jop-bartolome-ferrando-truna/
CATEGORIES:Notes al peu
ATTACH;FMTTYPE=image/jpeg:https://octubre.cat/www/wp-content/uploads/2020/07/activitat1998.jpg
END:VEVENT
END:VCALENDAR