BEGIN:VCALENDAR
VERSION:2.0
PRODID:-//Octubre Centre de Cultura Contemporània - ECPv5.1.6//NONSGML v1.0//EN
CALSCALE:GREGORIAN
METHOD:PUBLISH
X-WR-CALNAME:Octubre Centre de Cultura Contemporània
X-ORIGINAL-URL:https://octubre.cat
X-WR-CALDESC:Events for Octubre Centre de Cultura Contemporània
BEGIN:VTIMEZONE
TZID:Europe/Andorra
BEGIN:DAYLIGHT
TZOFFSETFROM:+0100
TZOFFSETTO:+0200
TZNAME:CEST
DTSTART:20090329T010000
END:DAYLIGHT
BEGIN:STANDARD
TZOFFSETFROM:+0200
TZOFFSETTO:+0100
TZNAME:CET
DTSTART:20091025T010000
END:STANDARD
END:VTIMEZONE
BEGIN:VEVENT
DTSTART;TZID=Europe/Andorra:20090704T190000
DTEND;TZID=Europe/Andorra:20090704T190000
DTSTAMP:20260420T182849
CREATED:20200729T182414Z
LAST-MODIFIED:20200729T182414Z
UID:12809-1246734000-1246734000@octubre.cat
SUMMARY:John Giorno (Nova York) + Rafael Santibáñez (València) + Xema Soler (València)
DESCRIPTION:Dissabte 4 de juliol\, a les 19.00h: John Giorno (Nova York) + Rafael Santibáñez (València) + Xema Soler (València).   \n  \n  \n\nJohn Giorno és poeta i artista. D’ancestres italians (la seua família procedia de Tursi) va nàixer a Nova York el 4 de desembre de 1936. Va cursar estudis a la Universitat de Columbia\, on es va graduar el 1958. Va freqüentar l’ambient underground novaiorquès dels anys 60 i va entrar en contacte amb Andy Warhol i William Burroughs. La seua obra es vincula a la poesia beatnik i a l’Escola de Nova York.   El 1968 va crear el servei Dial-a-Poem (Marque un poema) i va fundar un col·lectiu d’artistes que va rebre el nom de Giorno Poetry Systems amb el propòsit de difondre les noves formes poètiques\, usant les noves tecnologies i els més variats mitjans i estils\, com el spoken word (recitat acompanyat de música)\, el poetry slam (competició de declamacions de poesia) i tota classe d’actuacions que sovint s’enregistraven per a deixar-ne constància. Alguns dels artistes que col·laboraren amb el col·lectiu foren William Burroughs\, John Ashbery\, Ted Berrigan\, Patti Smith\, Laurie Anderson\, Philip Glass\, Robert Rauschenberg i Robert Mapplethorpe.   Giorno ha publicat The American Book of the Dead (1964)\, Grasping at emptiness (1985) i You got to burn to shine (1994)\, entre altres treballs d’art i poesia. A l’Estat espanyol\, ha realitzat presentacions al Festival Spoken Word de Sevilla\, PROPOSTA\, Experimentaclub\, el MACBA\, La Noche de los libros i la Residencia de Estudiantes\, així com a la mostra Everstill de la Fundació García Lorca de Granada.   Per a molts\, John Giorno és un dels principals responsables de l’evolució més extrema que ha experimentat la poesia en llengua anglesa en les darreres dècades: el spoken word (art de la paraula parlada)\, que en contraposició a la lectura silenciosa o solitària\, actualment disputa el centre de l’escena poètica dels Estats Units. La rellevància d’aquesta proposta es correspon amb una transformació política i demogràfica que pràcticament ha homologat internacionalment la cultura amb la societat de l’entreteniment\, forçant les noves promocions d’artistes a analitzar les connexions entre oci i consum\, per tal de revitalitzar el diàleg entre públic i autor.   En aquest sentit\, John Giorno és reconegut com autor fonamental en la poesia postmoderna. En Wisdom of the witches\, primera obra que apareix íntegrament en llengua castellana\, la seua busca es centra en certa reivindicació de l’espiritualitat\, que no rebutja les misèries de l’urbs occidentals. En conseqüència\, la sordidesa i el luxe\, la violència i l’amor\, la mort i el sexe són part de la mateixa naturalesa il·lusòria de la realitat i han de superar-se per abastar una anhelada equanimitat.   Rafael Santibáñez  Llicenciat en Belles Arts en l’especialitat de pintura per la Universitat Politècnica de València. S’ha dedicat a la pintura i al Mail Art i ha sigut seleccionat i premiat en múltiples concursos d’àmbit nacional i ha participat en nombroses mostres individuals i col·lectives tant a Europa com a Amèrica i Japó.   El febrer de 1990 cofundà l’Associació de Nous Comportaments Artístics\,  ANCA\, amb la qual va mantenir obert al públic un espai experimental d’activitats a València durant tres anys. Allà va organitzar\, va gestionar i va participar en múltiples exposicions d’objectes\, instal·lacions\, performances\, publicacions poètiques\, etc.   Ha organitzat i pres part en festivals i mostres de performance des de 1989 tant ací (II Festival Internacional de Performances i Poesia d’Acció en el Centre del Carme\, IVAM) com a l’estranger (5th International  Festival of Alternative Arts\, Transart Communication a Nové Zamky\, Bratislava i Karlove Vary (Repúbliques Eslovaca i Txeca)\, la Galeria Le Paquebot i l’Escola de Belles Arts de Caen o el Centre Inter/LeLieu de Québec). Actualment reparteix el seu temps entre la docència\, l’art i la vida.  Xema Soler  “L’art d’acció no és una drecera cap a la veritat\, però ens permet gaudir del paisatge quotidià de l’experiència i de la pràctica de viure”.
URL:https://octubre.cat/activitat/john-giorno-nova-york-rafael-santibanez-valencia-xema-soler-valencia/
LOCATION:No definit
CATEGORIES:Arrt d'Accció
ATTACH;FMTTYPE=image/jpeg:https://octubre.cat/www/wp-content/uploads/2020/07/activitat836.jpg
END:VEVENT
END:VCALENDAR