BEGIN:VCALENDAR
VERSION:2.0
PRODID:-//Octubre Centre de Cultura Contemporània - ECPv5.1.6//NONSGML v1.0//EN
CALSCALE:GREGORIAN
METHOD:PUBLISH
X-WR-CALNAME:Octubre Centre de Cultura Contemporània
X-ORIGINAL-URL:https://octubre.cat
X-WR-CALDESC:Events for Octubre Centre de Cultura Contemporània
BEGIN:VTIMEZONE
TZID:Europe/Andorra
BEGIN:DAYLIGHT
TZOFFSETFROM:+0100
TZOFFSETTO:+0200
TZNAME:CEST
DTSTART:20150329T010000
END:DAYLIGHT
BEGIN:STANDARD
TZOFFSETFROM:+0200
TZOFFSETTO:+0100
TZNAME:CET
DTSTART:20151025T010000
END:STANDARD
END:VTIMEZONE
BEGIN:VEVENT
DTSTART;TZID=Europe/Andorra:20151210T190000
DTEND;TZID=Europe/Andorra:20151210T190000
DTSTAMP:20260421T182211
CREATED:20200729T171501Z
LAST-MODIFIED:20200730T041621Z
UID:10434-1449774000-1449774000@octubre.cat
SUMMARY:Jocs geoestratètigcs a Síria
DESCRIPTION:Dijous 10 de desembre a les 19.00h. Xerrada-debat amb Pedro Rojo (Fundació Al Fanar) organitzada per CGT-València.  \n  \n  \n\n Xerrada-debat amb Fernando Rojo (Fundación Al Fanar).  Organitzat per CGT-València.
URL:https://octubre.cat/activitat/jocs-geoestratetigcs-a-siria/
CATEGORIES:Conferències i congressos
ATTACH;FMTTYPE=image/jpeg:https://octubre.cat/www/wp-content/uploads/2020/07/activitat2463.jpg
END:VEVENT
END:VCALENDAR