BEGIN:VCALENDAR
VERSION:2.0
PRODID:-//Octubre Centre de Cultura Contemporània - ECPv5.1.6//NONSGML v1.0//EN
CALSCALE:GREGORIAN
METHOD:PUBLISH
X-WR-CALNAME:Octubre Centre de Cultura Contemporània
X-ORIGINAL-URL:https://octubre.cat
X-WR-CALDESC:Events for Octubre Centre de Cultura Contemporània
BEGIN:VTIMEZONE
TZID:Europe/Andorra
BEGIN:DAYLIGHT
TZOFFSETFROM:+0100
TZOFFSETTO:+0200
TZNAME:CEST
DTSTART:20130331T010000
END:DAYLIGHT
BEGIN:STANDARD
TZOFFSETFROM:+0200
TZOFFSETTO:+0100
TZNAME:CET
DTSTART:20131027T010000
END:STANDARD
END:VTIMEZONE
BEGIN:VEVENT
DTSTART;TZID=Europe/Andorra:20130131T193000
DTEND;TZID=Europe/Andorra:20130131T193000
DTSTAMP:20260421T132736
CREATED:20200729T165915Z
LAST-MODIFIED:20200729T184007Z
UID:9460-1359660600-1359660600@octubre.cat
SUMMARY:Joaquim G. Caturla i Vicent Pallarés
DESCRIPTION:Dijous 31 de gener a les 19.30h: Joaquim G. Caturla i Vicent Pallarés  \n  \n  \n\n Joaquim G. Caturla (Alacant\, 1951) és un escriptor valencià. Ha recopilat narracions populars (Rondalles de l’Alacantí\, 1985 i Rondalles del Baix Vinalopó\, 1987). Ha escrit també narrativa\, poètica (Un estiu amb flora\, 1989)\, infantil (La cova del llop marí\, 1989; Julieta i el caragol màgic\, 1993; La penya dels pirates\, 1998)\, narrativa juvenil (Tot l’estiu per davant\, 1992; Mirant la lluna\, 2001)\, narrativa breu (Els colors de la solitud\, 1996)\, narrativa de tema eròtic (Les quatre edats d’Eros\, 1996) i les novel·les La casa de les flors (1999)\, L’home de l’estació (Premi de la Crítica dels Escriptors Valencians\, 2006) i Els ulls del gos (Premi Ciutat d’Elx 2009). També ha col·laborat en revistes com Quaderns de migjorn\, 1993-98 o Canelobre\, 1997\, ha participat en el llibre col·lectiu Microsexe\, 1998 -un recull de contes eròtics breus- i ha publicat el llibre sobre cultura popular Història de la vida quotidiana\, 1998.  Vicent Pallarés i Porcar (Barcelona\, 1951) és un escriptor valencià. Tot i nàixer a Catalunya\, es va traslladar a la localitat de Suera\, a la Plana Baixa\, comarca en la qual ha desenvolupat la carrera de docent. Va començar a escriure en castellà\, i al 1982 publica El valle incompleto. La seua primera obra en català\, La immensa solitud de Geneviève Lelouch\, no arribaria fins el 1993. Just aquest debut se saldaria amb el guardó Recull-Francesc Puig i Llensa de narració. Eixe mateix any també s’hi imposava al Premi Alambor amb L’àngel custodi. Però\, el gruix de la seua bibliografia arriba en el perïode comprés entre 1999 i 2004\, quan publica diverses novel·les i llibres juvenils\, que obtenen guardons com el Vila de Puçol\, el Ciutat de València o l’Enric Valor\, entre d’altres. Al 2011 conclou i publica El magma silenciós\, una obra concebuda junt el desaparegut Manuel Garcia i Grau. També ha escrit diversos guions audiovisuals\, com per al programa de Canal 9 ‘Valencians que fan història’.  En col·laboració amb l’AELC
URL:https://octubre.cat/activitat/joaquim-g-caturla-i-vicent-pallares/
LOCATION:No definit
CATEGORIES:Escriptors al terrat
ATTACH;FMTTYPE=image/jpeg:https://octubre.cat/www/wp-content/uploads/2020/07/activitat1710.jpg
END:VEVENT
END:VCALENDAR