BEGIN:VCALENDAR
VERSION:2.0
PRODID:-//Octubre Centre de Cultura Contemporània - ECPv5.1.6//NONSGML v1.0//EN
CALSCALE:GREGORIAN
METHOD:PUBLISH
X-WR-CALNAME:Octubre Centre de Cultura Contemporània
X-ORIGINAL-URL:https://octubre.cat
X-WR-CALDESC:Events for Octubre Centre de Cultura Contemporània
BEGIN:VTIMEZONE
TZID:Europe/Andorra
BEGIN:DAYLIGHT
TZOFFSETFROM:+0100
TZOFFSETTO:+0200
TZNAME:CEST
DTSTART:20150329T010000
END:DAYLIGHT
BEGIN:STANDARD
TZOFFSETFROM:+0200
TZOFFSETTO:+0100
TZNAME:CET
DTSTART:20151025T010000
END:STANDARD
END:VTIMEZONE
BEGIN:VEVENT
DTSTART;TZID=Europe/Andorra:20151008T200000
DTEND;TZID=Europe/Andorra:20151008T200000
DTSTAMP:20260421T151840
CREATED:20200729T171311Z
LAST-MODIFIED:20200730T041534Z
UID:10314-1444334400-1444334400@octubre.cat
SUMMARY:Joanes i la colla de Pantaix
DESCRIPTION:Dijous 8 d’octubre a les 20.00h. Presenten el seu nou disc Revisat. Inauguració del nou Espai Octubre Concerts. Anticipada: 5€ / taquilla: 7€  \n  \n  \n\n presenten el nou disc Revisat.  Revisat és el nou treball de Joanes i la colla de Pantaix (Mésdemil). Un disc actual\, fresc\, acurat i positiu. El disc conté 13 cançons\, 6 de discos anteriors\, que han estat “revisades”\, i 7 més d’inèdites. Totes\, però\, elaborades i presentades en format acústic\, tot i que en alguns passatges no han pogut resistir-se a electrificar part dels temes. La veu peculiar de l’Eduard Joanes (cantant i líder dels mítics Pantaix) recorre tot el disc.  Entre les cançons ja conegudes trobem el clàssic “La Cassalla”\, que no necessita presentacions. Pel que fa a les cançons noves\, Joanes i la Colla de Pantaix continuen en la seua línia compromesa\, fent palesos els moments que estem vivint\, però amb sempre un to positiu i optimista.  Actualment\, Joanes i la Colla de Pantaix són Eduard Joanes (guitarres elèctriques\, acústiques i veus)\, Josep Maravilla (guitarres elèctriques\, acústiques\, espanyola\, guitarró i baix)\, Carlos Llidó (bateria i percussió). I han comptat amb la col·laboració de Carraixet (cors  i veus). El disc ha estat enregistrat als estudis La Cassona (La Ribera) amb Josep Maravilla de tècnic i de productor.  Entrades: Anticipada a notikumi.com: 5€ Taquilla: 7€  — Espai Octubre Concerts és una iniciativa de l’Octubre CCC gestionada per les productores musicals Metrònom\, Play Producciones i Mésdemil.
URL:https://octubre.cat/activitat/joanes-i-la-colla-de-pantaix/
CATEGORIES:Espai Octubre Concerts
ATTACH;FMTTYPE=image/jpeg:https://octubre.cat/www/wp-content/uploads/2020/07/activitat2400.jpg
END:VEVENT
END:VCALENDAR