BEGIN:VCALENDAR
VERSION:2.0
PRODID:-//Octubre Centre de Cultura Contemporània - ECPv5.1.6//NONSGML v1.0//EN
CALSCALE:GREGORIAN
METHOD:PUBLISH
X-WR-CALNAME:Octubre Centre de Cultura Contemporània
X-ORIGINAL-URL:https://octubre.cat
X-WR-CALDESC:Events for Octubre Centre de Cultura Contemporània
BEGIN:VTIMEZONE
TZID:Europe/Andorra
BEGIN:DAYLIGHT
TZOFFSETFROM:+0100
TZOFFSETTO:+0200
TZNAME:CEST
DTSTART:20090329T010000
END:DAYLIGHT
BEGIN:STANDARD
TZOFFSETFROM:+0200
TZOFFSETTO:+0100
TZNAME:CET
DTSTART:20091025T010000
END:STANDARD
END:VTIMEZONE
BEGIN:VEVENT
DTSTART;TZID=Europe/Andorra:20090314T180000
DTEND;TZID=Europe/Andorra:20090314T180000
DTSTAMP:20260421T124620
CREATED:20200729T182335Z
LAST-MODIFIED:20200729T182335Z
UID:12774-1237053600-1237053600@octubre.cat
SUMMARY:Joan Casellas (Barcelona) + Ángela García (València) + Álvaro Pichó (València)
DESCRIPTION:Dissabte 14 de març\, a les 18.00h:  Performance a càrrec de  Joan Casellas (Barcelona) + Ángela García (València) + Álvaro Pichó (València)   \n  \n  \n\nImatge: Álvaro Pichó  Nova sessió de performance dins del cicle Arrt d’Accció.   18.00h. Projecció del vídeo documental La Muga Cula 4\, de Nelson Hausmann\, seguit d’una ponència a càrrec de Joan Casellas\, director artístic de la trobada sobre la qual tracta el document audiovisual.   Joan Casellas (Barcelona\, 1960) es va formar en l’escena catalana dels 70 interessada per l’art conceptual. Ha realitzat tant escultures i instal·lacions com accions efímeres i performances arreu del món. També ha impartit conferències i tallers sobre art i performance a universitats i museus d’art contemporani de tot l’estat.   19.30h. Performances de Joan Casellas (Barcelona) + Ángela García (València) + Álvaro Pichó (València).   Ángela García (Castelló de la Plana\, 1981). Artista performer. Durant els anys universitaris i poseriors ha realitzat tallers de performance amb Johannes Deimling\, Marina Abramovic\, Roi Vaara\, Bartolomé Ferrando\, etc. Ha tingut contacte amb el món de la dansa i el teatre. L’art d’acció és\, no obstant\, la seua pràctica favorita. Ha participat com a performer i ponent en trobades d’art d’acció\, ha col·laborat amb la 5a Trobada Internacional de Performance a l’IVAM i va ajudar en la coordinació del festival L’Art és Acció en el Reina Sofía de Madrid. És membre fundador i actiu de Sinberiforia A.C.\, i organitza amb ells el Cicle Arrt d’Accció a l’Octubre CCC.   Álvaro Pichó (València\, 1976) oscil·la entre el disseny i l’art. Posa en dubte l’art i la performance. El desconeixement\, la incomoditat l’empenyen a seguir practicant l’art en les seues diverses expressions. Encara avui no sap què és l’art ni què la performance i per això\, continua buscant. L’energia que se’n desprén d’una bona performance és díficilment comparable amb altres situacions de la vida.
URL:https://octubre.cat/activitat/joan-casellas-barcelona-angela-garcia-valencia-alvaro-picho-valencia/
LOCATION:No definit
CATEGORIES:Arrt d'Accció
ATTACH;FMTTYPE=image/jpeg:https://octubre.cat/www/wp-content/uploads/2020/07/activitat799.jpg
END:VEVENT
END:VCALENDAR