BEGIN:VCALENDAR
VERSION:2.0
PRODID:-//Octubre Centre de Cultura Contemporània - ECPv5.1.6//NONSGML v1.0//EN
CALSCALE:GREGORIAN
METHOD:PUBLISH
X-WR-CALNAME:Octubre Centre de Cultura Contemporània
X-ORIGINAL-URL:https://octubre.cat
X-WR-CALDESC:Events for Octubre Centre de Cultura Contemporània
BEGIN:VTIMEZONE
TZID:Europe/Andorra
BEGIN:DAYLIGHT
TZOFFSETFROM:+0100
TZOFFSETTO:+0200
TZNAME:CEST
DTSTART:20200329T010000
END:DAYLIGHT
BEGIN:STANDARD
TZOFFSETFROM:+0200
TZOFFSETTO:+0100
TZNAME:CET
DTSTART:20201025T010000
END:STANDARD
END:VTIMEZONE
BEGIN:VEVENT
DTSTART;TZID=Europe/Andorra:20201201T000000
DTEND;TZID=Europe/Andorra:20201215T000000
DTSTAMP:20260425T130213
CREATED:20201129T085852Z
LAST-MODIFIED:20201129T085852Z
UID:15632-1606780800-1607990400@octubre.cat
SUMMARY:Joan Amades: la memòria del poble
DESCRIPTION:Joan Amades i Gelats neix el 23 de juliol de 1890 a Barcelona\, on també va morir el 17 de gener de 1959. És sens dubte el folklorista mes prolífic del nostre país. Fill del Raval barceloní\, va conrear l’etnografia i va recollir materials de temes folklòrics d’arreu dels territoris de parla catalana. En total\, la seva obra conta amb prop de quatre-cents títols entre llibres\, articles\, opuscles\, separates\, alguns encara pendents de publicació. Amb tal diversitat de temes es fa difícil fins i tot fer-ne una classificació encertada: gegants\, bestiari\, oficis\, música i dansa\, literatura de fil i canya\, rondallari\, llegendari\, jocs i teatre popular\, entre d’altres. \nAquesta exposició ofereix una nova mirada cap l’ enorme i transcendental bagatge etnogràfic que va acumular durant tota la seva carrera\, reflectit en obres imprescindibles com el Costumari català i Folklore de Catalunya. \n \n  \nDirecció i continguts: Amadeu Carbó\nTextos: Amadeu Carbó\, Pol Ducable\, Antoni Serés i Gustau Molas\nRecerca Gràfica: Raül Contel\, Jan Grau\, Antoni Serés\nDisseny: Xavier Malet \nPer a saber-ne més: joanamades.cat\nUna producció del Museu Etnològic i de Cultures del Món de Barcelona (MUEC) \n 
URL:https://octubre.cat/activitat/joan-amades-la-memoria-del-poble/
LOCATION:Hall
CATEGORIES:Exposicions
ATTACH;FMTTYPE=image/jpeg:https://octubre.cat/www/wp-content/uploads/2020/11/joan-mades-pral.jpg
END:VEVENT
END:VCALENDAR