BEGIN:VCALENDAR
VERSION:2.0
PRODID:-//Octubre Centre de Cultura Contemporània - ECPv5.1.6//NONSGML v1.0//EN
CALSCALE:GREGORIAN
METHOD:PUBLISH
X-WR-CALNAME:Octubre Centre de Cultura Contemporània
X-ORIGINAL-URL:https://octubre.cat
X-WR-CALDESC:Events for Octubre Centre de Cultura Contemporània
BEGIN:VTIMEZONE
TZID:Europe/Andorra
BEGIN:DAYLIGHT
TZOFFSETFROM:+0100
TZOFFSETTO:+0200
TZNAME:CEST
DTSTART:20220327T010000
END:DAYLIGHT
BEGIN:STANDARD
TZOFFSETFROM:+0200
TZOFFSETTO:+0100
TZNAME:CET
DTSTART:20221030T010000
END:STANDARD
END:VTIMEZONE
BEGIN:VEVENT
DTSTART;TZID=Europe/Andorra:20221116T190000
DTEND;TZID=Europe/Andorra:20221116T190000
DTSTAMP:20260421T180800
CREATED:20221103T104141Z
LAST-MODIFIED:20250629T103732Z
UID:18970-1668625200-1668625200@octubre.cat
SUMMARY:Jo també he llegit Fuster (1)
DESCRIPTION:Lectures contemporànies d’un escriptor genial \nL’objectiu d’aquest tres actes programats és contribuir a la circulació dels recursos editorials que ja existeixen i incrementar l’atracció cap a la literatura de Fuster per part del públic lector en general i\, en particular\, dels sectors més joves\, que no van viure l’eclosió d’aquell fenomen literari. Recuperar la vigència de la literatura de Fuster només serà possible si es fomenta la seua lectura.\nEls actes tindran lloc els dies 16\, 23 i 30 de novembre. En cada una de les sessions intervindran tres ponents\, cada un dels quals incitarà a la lectura d’un dels llibres de Fuster. Entre tots hem intentat que la llista de títols siga representativa i no deixe de banda cap aspecte de l’obra de Fuster (poesia\, història cultural i política\, crítica literària\, crítica d’art\, assaig i comentari periodístic). \nSessió del dimecres 16 de novembre:\n—Gràcia Jiménez: Joan Fuster. Poesia completa 1945-1987\n—Ignasi Roviró: El descrèdit de la realitat\n—Carme Gregori: Consells\, proverbis i insolències \n—\nOrganitzat per la Institució Alfons el Magnànim amb la col·laboració de l’Octubre CCC.
URL:https://octubre.cat/activitat/jo-tambe-he-llegit-fuster-1/
LOCATION:Aula 1
CATEGORIES:Any Joan Fuster 2022,Literatura
ATTACH;FMTTYPE=image/jpeg:https://octubre.cat/www/wp-content/uploads/2022/11/cartell-horitzontal.jpg
END:VEVENT
END:VCALENDAR