BEGIN:VCALENDAR
VERSION:2.0
PRODID:-//Octubre Centre de Cultura Contemporània - ECPv5.1.6//NONSGML v1.0//EN
CALSCALE:GREGORIAN
METHOD:PUBLISH
X-WR-CALNAME:Octubre Centre de Cultura Contemporània
X-ORIGINAL-URL:https://octubre.cat
X-WR-CALDESC:Events for Octubre Centre de Cultura Contemporània
BEGIN:VTIMEZONE
TZID:Europe/Andorra
BEGIN:DAYLIGHT
TZOFFSETFROM:+0100
TZOFFSETTO:+0200
TZNAME:CEST
DTSTART:20160327T010000
END:DAYLIGHT
BEGIN:STANDARD
TZOFFSETFROM:+0200
TZOFFSETTO:+0100
TZNAME:CET
DTSTART:20161030T010000
END:STANDARD
END:VTIMEZONE
BEGIN:VEVENT
DTSTART;TZID=Europe/Andorra:20160312T200000
DTEND;TZID=Europe/Andorra:20160312T200000
DTSTAMP:20260421T134425
CREATED:20200729T171710Z
LAST-MODIFIED:20200729T185432Z
UID:10572-1457812800-1457812800@octubre.cat
SUMMARY:JJ Llombart & The Frabers
DESCRIPTION:Dissabte 12 de març a les 20.00h. Espai Octubre Concerts. Entrades a 5 i 8 euros.  \n  \n  \n\n JJ Llombart & The Frabers es forma el setembre de 2014 per tal de facilitar les inquietuds compositives de Jorge Llombart. Després d’alguns mesos d’assaigs\, proves i selecció de músics\, la banda queda conformada definitivament el maig de 2015\, tot i que prèviament ja havien realitzat algunes actuacions.  Actualment\, els Frabers són: –Andrea Vasco: flauta\, harmònica i teclats –Carla Navarro: cors i percussió –Pablo Sánchez: guitarra –Jorge Escribano: baix –Jorge Llombart: guitarra i veu –Jorge Lleó: bateria i caixó  Els estils musicals que emanen dels Frabers són el blues\, el rock i el folk\, quasi sempre de creació pròpia però amb un petit marge per a les versions acuradament escollides i\, majoritàriament\, allunyades dels termes que es versionen tradicionalment. Des del 2015\, JJ Llombart & The Frabers han tocat assíduament a diversos locals de València.  — Entrades: Anticipada a notikumi.com: 5 € Taquilla: 8 €  — Espai Octubre Concerts és una iniciativa de l’Octubre CCC gestionada per les productores musicals Metrònom\, Play Producciones\,  Mésdemil i lacasacalba.org.
URL:https://octubre.cat/activitat/jj-llombart-the-frabers/
CATEGORIES:Espai Octubre Concerts
ATTACH;FMTTYPE=image/jpeg:https://octubre.cat/www/wp-content/uploads/2020/07/activitat2534.jpg
END:VEVENT
END:VCALENDAR