BEGIN:VCALENDAR
VERSION:2.0
PRODID:-//Octubre Centre de Cultura Contemporània - ECPv5.1.6//NONSGML v1.0//EN
CALSCALE:GREGORIAN
METHOD:PUBLISH
X-WR-CALNAME:Octubre Centre de Cultura Contemporània
X-ORIGINAL-URL:https://octubre.cat
X-WR-CALDESC:Events for Octubre Centre de Cultura Contemporània
BEGIN:VTIMEZONE
TZID:Europe/Andorra
BEGIN:DAYLIGHT
TZOFFSETFROM:+0100
TZOFFSETTO:+0200
TZNAME:CEST
DTSTART:20180325T010000
END:DAYLIGHT
BEGIN:STANDARD
TZOFFSETFROM:+0200
TZOFFSETTO:+0100
TZNAME:CET
DTSTART:20181028T010000
END:STANDARD
END:VTIMEZONE
BEGIN:VEVENT
DTSTART;TZID=Europe/Andorra:20181108T190000
DTEND;TZID=Europe/Andorra:20181108T190000
DTSTAMP:20260422T143815
CREATED:20200729T173150Z
LAST-MODIFIED:20200729T190943Z
UID:11293-1541703600-1541703600@octubre.cat
SUMMARY:Javier S. Burgos: ‘Frankenstein y el estudio del cerebro’
DESCRIPTION:Dijous 8 de novembre a les 19.00h. Activitat inclosa en el cicle de cinema i conferències “Els dijous de Frankenstein” de l’Espai Ciència\, un seguit d’activitats en homenatge a Mary Shelley i el doctor Frankenstein en el bicentenari de la criatura.	 \n  \n  \n\n 	 El doctor Javier S. Burgos Muñoz és el director gerent de la Fundació per a la Investigació de l’Hospital Universitari i Politècnic La Fe de València. Javier S. Burgos (Port de Sagunt\, 1971) és doctor en Biologia Molecular per la Universitat Autònoma de Madrid i ha dedicat la seua carrera científica a la investigació sobre l’alzheimer i al desenvolupament de fàrmacs. Fins al seu nomenament com a director gerent de la Fundació La Fe\, Burgos ha estat director gerent de la Fundació per a la Investigació Biosanitària d’Andalusia Oriental (FIBAO Salud) i de l’Institut de Recerca Biosanitària de Granada (ibs.Granada ).  — Activitat inclosa en el cicle de cinema i conferències “Els dijous de Frankenstein”\, un seguit d’activitats en homenatge a Mary Shelley i el doctor Frankenstein en el bicentenari de la criatura. Organitzat per l’Espai Ciència d’Acció Cultural del País Valencià amb la col·laboració de l’Institu8t d’Estudis Catalans\, Associació d’Escriptors en Llengua Catalana\, Unitat de Cultura Científica de la UV\, CSIC\, Llibreria Fan Set i Revista Mètode. Entrada lliure.
URL:https://octubre.cat/activitat/javier-s-burgos-frankenstein-y-el-estudio-del-cerebro/
LOCATION:Sala d’actes
CATEGORIES:Espai Ciència
ATTACH;FMTTYPE=image/jpeg:https://octubre.cat/www/wp-content/uploads/2020/07/activitat3132.jpg
END:VEVENT
END:VCALENDAR